BEGIN:VCALENDAR
VERSION:2.0
PRODID:-//UNIVERSITY OF TEXAS SCHOOL OF LAW//NONSGML Events Calendar v1.0//EN
X-WR-TIMEZONE:America/Chicago
BEGIN:VTIMEZONE
TZID:US/Central
X-LIC-LOCATION:America/Chicago
BEGIN:DAYLIGHT
TZOFFSETFROM:-0600
TZOFFSETTO:-0500
TZNAME:CDT
DTSTART:19700308T020000
RRULE:FREQ=YEARLY;BYMONTH=3;BYDAY=2SU
END:DAYLIGHT
BEGIN:STANDARD
TZOFFSETFROM:-0500
TZOFFSETTO:-0600
TZNAME:CST
DTSTART:19701101T020000
RRULE:FREQ=YEARLY;BYMONTH=11;BYDAY=1SU
END:STANDARD
END:VTIMEZONE
BEGIN:VEVENT
DTSTART;TZID=US/Central:20200131T080000
DTEND;VALUE=DATE-TIME;TZID=US/Central:20200131T180000

DTSTAMP:20260419T145900Z
CREATED:20191209T223500Z
LAST-MODIFIED:20191209T223500Z
UID:20200131T080000-53205@law.utexas.edu
SUMMARY:Remedies in Complex Litigation
DESCRIPTION:<p>On January 31 and February 1, 2020, the Texas Law Review will be holding a symposium on “Remedies in Complex Litigation.” The symposium is designed to bring together leading thinkers from across the country to present and discuss various perspectives on and applications for complex litigation, from assessments of patent damages to complex-litigation techniques for reparations.</p>\n\nIf you need an accommodation to participate in this event, please contact the event sponsor or the Texas Law Special Events Office at specialevents@law.utexas.edu no later than seven business days prior to the event.
X-ALT-DESC;FMTTYPE=text/html:<p>On January 31 and February 1, 2020, the Texas Law Review will be holding a symposium on “Remedies in Complex Litigation.” The symposium is designed to bring together leading thinkers from across the country to present and discuss various perspectives on and applications for complex litigation, from assessments of patent damages to complex-litigation techniques for reparations.</p><p>If you need an accommodation to participate in this event, please contact the event
                                          event sponsor or the Texas Law Special Events Office at <a href="mailto:specialevents@law.utexas.edu">specialevents@law.utexas.edu</a> no later than seven business days prior to the event.</p>

LOCATION:CCJ 2.306 - Eidman Courtroom
URL:http://law.utexas.edu/calendar/2020/01/31/53205/
CLASS:PUBLIC
STATUS:CONFIRMED

END:VEVENT
END:VCALENDAR