BEGIN:VCALENDAR
VERSION:2.0
PRODID:-//UNIVERSITY OF TEXAS SCHOOL OF LAW//NONSGML Events Calendar v1.0//EN
X-WR-TIMEZONE:America/Chicago
BEGIN:VTIMEZONE
TZID:US/Central
X-LIC-LOCATION:America/Chicago
BEGIN:DAYLIGHT
TZOFFSETFROM:-0600
TZOFFSETTO:-0500
TZNAME:CDT
DTSTART:19700308T020000
RRULE:FREQ=YEARLY;BYMONTH=3;BYDAY=2SU
END:DAYLIGHT
BEGIN:STANDARD
TZOFFSETFROM:-0500
TZOFFSETTO:-0600
TZNAME:CST
DTSTART:19701101T020000
RRULE:FREQ=YEARLY;BYMONTH=11;BYDAY=1SU
END:STANDARD
END:VTIMEZONE
BEGIN:VEVENT
DTSTART;TZID=US/Central:20200218T114500
DTEND;VALUE=DATE-TIME;TZID=US/Central:20200218T130000

DTSTAMP:20260419T173600Z
CREATED:20191031T174800Z
LAST-MODIFIED:20200203T171700Z
UID:20200218T114500-51826@law.utexas.edu
SUMMARY:What Starts Here: Wisdom From Texas Law
DESCRIPTION:<p>This three-part series will feature Dean Ward Farnsworth, Professor Mechele Dickerson, and Professor Wayne Schiess. Consider this a fireside chat where these Texas Law superstars will impart lessons that they have learned from the school of life. </p>\n\nIf you need an accommodation to participate in this event, please contact the event sponsor or the Texas Law Special Events Office at specialevents@law.utexas.edu no later than seven business days prior to the event.
X-ALT-DESC;FMTTYPE=text/html:<p>This three-part series will feature Dean Ward Farnsworth, Professor Mechele Dickerson, and Professor Wayne Schiess. Consider this a fireside chat where these Texas Law superstars will impart lessons that they have learned from the school of life. </p><p>If you need an accommodation to participate in this event, please contact the event
                                          event sponsor or the Texas Law Special Events Office at <a href="mailto:specialevents@law.utexas.edu">specialevents@law.utexas.edu</a> no later than seven business days prior to the event.</p>
CATEGORIES:Panel Discussion / Speaker Series
LOCATION:TNH 2.137 - Gayle Classroom
URL:http://law.utexas.edu/calendar/2020/02/18/51826/
CLASS:PUBLIC
STATUS:CONFIRMED

END:VEVENT
END:VCALENDAR