BEGIN:VCALENDAR
VERSION:2.0
PRODID:-//UNIVERSITY OF TEXAS SCHOOL OF LAW//NONSGML Events Calendar v1.0//EN
X-WR-TIMEZONE:America/Chicago
BEGIN:VTIMEZONE
TZID:US/Central
X-LIC-LOCATION:America/Chicago
BEGIN:DAYLIGHT
TZOFFSETFROM:-0600
TZOFFSETTO:-0500
TZNAME:CDT
DTSTART:19700308T020000
RRULE:FREQ=YEARLY;BYMONTH=3;BYDAY=2SU
END:DAYLIGHT
BEGIN:STANDARD
TZOFFSETFROM:-0500
TZOFFSETTO:-0600
TZNAME:CST
DTSTART:19701101T020000
RRULE:FREQ=YEARLY;BYMONTH=11;BYDAY=1SU
END:STANDARD
END:VTIMEZONE
BEGIN:VEVENT
DTSTART;TZID=US/Central:20200221T100000
DTEND;VALUE=DATE-TIME;TZID=US/Central:20200221T133000

DTSTAMP:20260419T201000Z
CREATED:20200211T214400Z
LAST-MODIFIED:20200219T003000Z
UID:20200221T100000-54606@law.utexas.edu
SUMMARY:The Case for Reparations in America
DESCRIPTION:<p>Join TMLS for its academic symposium on Friday, February 21, 2020. This year’s topic is “The Case for Reparations in the United States”. Scholars and academics in the field of reparations will discuss the legal and moral justifications for reparations from 10-11am. From 11-12pm, our panelists will discuss the practicalities of implementing a system of reparations in the United States today. We will break for lunch from 12-1pm. Our keynote speaker will then address current attempts to pass reparations laws in this country.</p>\n\nIf you need an accommodation to participate in this event, please contact the event sponsor or the Texas Law Special Events Office at specialevents@law.utexas.edu no later than seven business days prior to the event.
X-ALT-DESC;FMTTYPE=text/html:<p>Join TMLS for its academic symposium on Friday, February 21, 2020. This year’s topic is “The Case for Reparations in the United States”. Scholars and academics in the field of reparations will discuss the legal and moral justifications for reparations from 10-11am. From 11-12pm, our panelists will discuss the practicalities of implementing a system of reparations in the United States today. We will break for lunch from 12-1pm. Our keynote speaker will then address current attempts to pass reparations laws in this country.</p><p>If you need an accommodation to participate in this event, please contact the event
                                          event sponsor or the Texas Law Special Events Office at <a href="mailto:specialevents@law.utexas.edu">specialevents@law.utexas.edu</a> no later than seven business days prior to the event.</p>
CATEGORIES:Panel Discussion / Speaker Series
LOCATION:TNH 2.111 - Sheffield-Massey Room
URL:http://law.utexas.edu/calendar/2020/02/21/54606/
CLASS:PUBLIC
STATUS:CONFIRMED

END:VEVENT
END:VCALENDAR