BEGIN:VCALENDAR
VERSION:2.0
PRODID:-//UNIVERSITY OF TEXAS SCHOOL OF LAW//NONSGML Events Calendar v1.0//EN
X-WR-TIMEZONE:America/Chicago
BEGIN:VTIMEZONE
TZID:US/Central
X-LIC-LOCATION:America/Chicago
BEGIN:DAYLIGHT
TZOFFSETFROM:-0600
TZOFFSETTO:-0500
TZNAME:CDT
DTSTART:19700308T020000
RRULE:FREQ=YEARLY;BYMONTH=3;BYDAY=2SU
END:DAYLIGHT
BEGIN:STANDARD
TZOFFSETFROM:-0500
TZOFFSETTO:-0600
TZNAME:CST
DTSTART:19701101T020000
RRULE:FREQ=YEARLY;BYMONTH=11;BYDAY=1SU
END:STANDARD
END:VTIMEZONE
BEGIN:VEVENT
DTSTART;TZID=US/Central:20200224T114500
DTEND;VALUE=DATE-TIME;TZID=US/Central:20200224T130000

DTSTAMP:20260419T185700Z
CREATED:20200116T174200Z
LAST-MODIFIED:20200206T152300Z
UID:20200224T114500-53907@law.utexas.edu
SUMMARY:"Who Should Pay for Your Health Care?"
DESCRIPTION:<p>Come join the Texas Federalist Society for one of our lunch debates. Texas Law's own Professor Charles Silver will be arguing against Medicare for All and discussing our healthcare and insurance system. Opponent TBA. Lunch will be served.</p>\n\nIf you need an accommodation to participate in this event, please contact the event sponsor or the Texas Law Special Events Office at specialevents@law.utexas.edu no later than seven business days prior to the event.
X-ALT-DESC;FMTTYPE=text/html:<p>Come join the Texas Federalist Society for one of our lunch debates. Texas Law's own Professor Charles Silver will be arguing against Medicare for All and discussing our healthcare and insurance system. Opponent TBA. Lunch will be served.</p><p>If you need an accommodation to participate in this event, please contact the event
                                          event sponsor or the Texas Law Special Events Office at <a href="mailto:specialevents@law.utexas.edu">specialevents@law.utexas.edu</a> no later than seven business days prior to the event.</p>
CATEGORIES:Panel Discussion / Speaker Series
LOCATION:TNH 2.137 - Gayle Classroom
URL:http://law.utexas.edu/calendar/2020/02/24/53907/
CLASS:PUBLIC
STATUS:CONFIRMED

END:VEVENT
END:VCALENDAR