BEGIN:VCALENDAR
VERSION:2.0
PRODID:-//UNIVERSITY OF TEXAS SCHOOL OF LAW//NONSGML Events Calendar v1.0//EN
X-WR-TIMEZONE:America/Chicago
BEGIN:VTIMEZONE
TZID:US/Central
X-LIC-LOCATION:America/Chicago
BEGIN:DAYLIGHT
TZOFFSETFROM:-0600
TZOFFSETTO:-0500
TZNAME:CDT
DTSTART:19700308T020000
RRULE:FREQ=YEARLY;BYMONTH=3;BYDAY=2SU
END:DAYLIGHT
BEGIN:STANDARD
TZOFFSETFROM:-0500
TZOFFSETTO:-0600
TZNAME:CST
DTSTART:19701101T020000
RRULE:FREQ=YEARLY;BYMONTH=11;BYDAY=1SU
END:STANDARD
END:VTIMEZONE
BEGIN:VEVENT
DTSTART;TZID=US/Central:20200228T103000
DTEND;VALUE=DATE-TIME;TZID=US/Central:20200228T120000

DTSTAMP:20260419T202800Z
CREATED:20200207T180400Z
LAST-MODIFIED:20200207T180400Z
UID:20200228T103000-54586@law.utexas.edu
SUMMARY:LL.M. Alumni Mentor Series Panel
DESCRIPTION:<p>LL.M. Alumni Mentor Series Panel featuring Joe Burfitt ('17), Jose Maria Lujambio ('14), and Jack Moxon ('17) will speak with LL.M. students about their career trajectory, offer advice on getting the most of the LL.M. experience, networking effectively, and navigating the career journey.</p>\n\nIf you need an accommodation to participate in this event, please contact the event sponsor or the Texas Law Special Events Office at specialevents@law.utexas.edu no later than seven business days prior to the event.
X-ALT-DESC;FMTTYPE=text/html:<p>LL.M. Alumni Mentor Series Panel featuring Joe Burfitt ('17), Jose Maria Lujambio ('14), and Jack Moxon ('17) will speak with LL.M. students about their career trajectory, offer advice on getting the most of the LL.M. experience, networking effectively, and navigating the career journey.</p><p>If you need an accommodation to participate in this event, please contact the event
                                          event sponsor or the Texas Law Special Events Office at <a href="mailto:specialevents@law.utexas.edu">specialevents@law.utexas.edu</a> no later than seven business days prior to the event.</p>
CATEGORIES:Panel Discussion / Speaker Series
LOCATION:TNH 2.111 - Sheffield-Massey Room
URL:http://law.utexas.edu/calendar/2020/02/28/54586/
CLASS:PUBLIC
STATUS:CONFIRMED

END:VEVENT
END:VCALENDAR