BEGIN:VCALENDAR
VERSION:2.0
PRODID:-//UNIVERSITY OF TEXAS SCHOOL OF LAW//NONSGML Events Calendar v1.0//EN
X-WR-TIMEZONE:America/Chicago
BEGIN:VTIMEZONE
TZID:US/Central
X-LIC-LOCATION:America/Chicago
BEGIN:DAYLIGHT
TZOFFSETFROM:-0600
TZOFFSETTO:-0500
TZNAME:CDT
DTSTART:19700308T020000
RRULE:FREQ=YEARLY;BYMONTH=3;BYDAY=2SU
END:DAYLIGHT
BEGIN:STANDARD
TZOFFSETFROM:-0500
TZOFFSETTO:-0600
TZNAME:CST
DTSTART:19701101T020000
RRULE:FREQ=YEARLY;BYMONTH=11;BYDAY=1SU
END:STANDARD
END:VTIMEZONE
BEGIN:VEVENT
DTSTART;TZID=US/Central:20200302T120000
DTEND;VALUE=DATE-TIME;TZID=US/Central:20200302T130000

DTSTAMP:20260419T185600Z
CREATED:20191213T164100Z
LAST-MODIFIED:20200226T191100Z
UID:20200302T120000-53365@law.utexas.edu
SUMMARY:Public Service Loan Forgiveness
DESCRIPTION:<p>Interested in a career in government or public interest? Learn about the multiple tools available to you to help minimize your debt burden. Representatives from the Career Services Office, Financial Aid, and the William Wayne Justice Center will discuss Public Service Loan Forgiveness, repayment plans on federal loans, and the Loan Repayment Assistance Programs for Texas Law graduates. Pizza will be served.</p>\n\nIf you need an accommodation to participate in this event, please contact the event sponsor or the Texas Law Special Events Office at specialevents@law.utexas.edu no later than seven business days prior to the event.
X-ALT-DESC;FMTTYPE=text/html:<p>Interested in a career in government or public interest? Learn about the multiple tools available to you to help minimize your debt burden. Representatives from the Career Services Office, Financial Aid, and the William Wayne Justice Center will discuss Public Service Loan Forgiveness, repayment plans on federal loans, and the Loan Repayment Assistance Programs for Texas Law graduates. Pizza will be served.</p><p>If you need an accommodation to participate in this event, please contact the event
                                          event sponsor or the Texas Law Special Events Office at <a href="mailto:specialevents@law.utexas.edu">specialevents@law.utexas.edu</a> no later than seven business days prior to the event.</p>
CATEGORIES:Workshop / Training Program
LOCATION:TNH 2.137 - Gayle Classroom
URL:http://law.utexas.edu/calendar/2020/03/02/53365/
CLASS:PUBLIC
STATUS:CONFIRMED

END:VEVENT
END:VCALENDAR