BEGIN:VCALENDAR
VERSION:2.0
PRODID:-//UNIVERSITY OF TEXAS SCHOOL OF LAW//NONSGML Events Calendar v1.0//EN
X-WR-TIMEZONE:America/Chicago
BEGIN:VTIMEZONE
TZID:US/Central
X-LIC-LOCATION:America/Chicago
BEGIN:DAYLIGHT
TZOFFSETFROM:-0600
TZOFFSETTO:-0500
TZNAME:CDT
DTSTART:19700308T020000
RRULE:FREQ=YEARLY;BYMONTH=3;BYDAY=2SU
END:DAYLIGHT
BEGIN:STANDARD
TZOFFSETFROM:-0500
TZOFFSETTO:-0600
TZNAME:CST
DTSTART:19701101T020000
RRULE:FREQ=YEARLY;BYMONTH=11;BYDAY=1SU
END:STANDARD
END:VTIMEZONE
BEGIN:VEVENT
DTSTART;TZID=US/Central:20200304T113000
DTEND;VALUE=DATE-TIME;TZID=US/Central:20200304T133000

DTSTAMP:20260419T172000Z
CREATED:20200121T170400Z
LAST-MODIFIED:20200213T170600Z
UID:20200304T113000-54005@law.utexas.edu
SUMMARY:Dell In-House Counsel Meet &amp; Greet
DESCRIPTION:<p>Stop by Jamail Pavilion and join members of the Dell Legal Team for lunch and conversation.</p>
  <p>Attorneys with expertise in commercial and corporate law, intellectual property, and litigation will be on hand to discuss opportunities and challenges in the corporate environment, in-house legal work, and general advice for young and soon-to-be lawyers.</p>
  <p>Dell Legal will also be on hand to promote the 3rd Annual Dell Diversity Scholarship, awarded to two rising 2L minority students and/or students of color. Diversity of the applicant may be based on a number of factors that could include race, gender, ethnicity, sexual orientation, gender identity, physical ability, economic or educational disadvantage, or identification with a historically under-represented population in the legal profession. Each scholarship consists of an award of $5,000, opportunities for mentorship from a Dell attorney, and a visit to the Dell campus.</p>
  <p>Please feel free to come and go as your schedule allows!</p>
  <p>All Texas Law students are welcome!</p>\n\nIf you need an accommodation to participate in this event, please contact the event sponsor or the Texas Law Special Events Office at specialevents@law.utexas.edu no later than seven business days prior to the event.
X-ALT-DESC;FMTTYPE=text/html:<p>Stop by Jamail Pavilion and join members of the Dell Legal Team for lunch and conversation.</p>
  <p>Attorneys with expertise in commercial and corporate law, intellectual property, and litigation will be on hand to discuss opportunities and challenges in the corporate environment, in-house legal work, and general advice for young and soon-to-be lawyers.</p>
  <p>Dell Legal will also be on hand to promote the 3rd Annual Dell Diversity Scholarship, awarded to two rising 2L minority students and/or students of color. Diversity of the applicant may be based on a number of factors that could include race, gender, ethnicity, sexual orientation, gender identity, physical ability, economic or educational disadvantage, or identification with a historically under-represented population in the legal profession. Each scholarship consists of an award of $5,000, opportunities for mentorship from a Dell attorney, and a visit to the Dell campus.</p>
  <p>Please feel free to come and go as your schedule allows!</p>
  <p>All Texas Law students are welcome!</p><p>If you need an accommodation to participate in this event, please contact the event
                                          event sponsor or the Texas Law Special Events Office at <a href="mailto:specialevents@law.utexas.edu">specialevents@law.utexas.edu</a> no later than seven business days prior to the event.</p>
CATEGORIES:Lunch
LOCATION:CCJ 2.300 - Jamail Pavilion
URL:http://law.utexas.edu/calendar/2020/03/04/54005/
CLASS:PUBLIC
STATUS:CONFIRMED

END:VEVENT
END:VCALENDAR