BEGIN:VCALENDAR
VERSION:2.0
PRODID:-//UNIVERSITY OF TEXAS SCHOOL OF LAW//NONSGML Events Calendar v1.0//EN
X-WR-TIMEZONE:America/Chicago
BEGIN:VTIMEZONE
TZID:US/Central
X-LIC-LOCATION:America/Chicago
BEGIN:DAYLIGHT
TZOFFSETFROM:-0600
TZOFFSETTO:-0500
TZNAME:CDT
DTSTART:19700308T020000
RRULE:FREQ=YEARLY;BYMONTH=3;BYDAY=2SU
END:DAYLIGHT
BEGIN:STANDARD
TZOFFSETFROM:-0500
TZOFFSETTO:-0600
TZNAME:CST
DTSTART:19701101T020000
RRULE:FREQ=YEARLY;BYMONTH=11;BYDAY=1SU
END:STANDARD
END:VTIMEZONE
BEGIN:VEVENT
DTSTART;TZID=US/Central:20200305T143000
DTEND;VALUE=DATE-TIME;TZID=US/Central:20200305T183000

DTSTAMP:20260419T155300Z
CREATED:20190912T141400Z
LAST-MODIFIED:20200227T003200Z
UID:20200305T143000-49425@law.utexas.edu
SUMMARY:TJCLCR Symposium
DESCRIPTION:<p>The Texas Journal on Civil Liberties and Civil Rights invites you to join a conversation about overcoming legal barriers in accessing health care. The Symposium will feature three panels: Mental Health and its Destigmatization, Access to Health Care for People with Disabilities, and Access to Health Care for People Who Identify as Transgender. Panels will feature University of Texas Professors, Judges, and local attorneys. Light refreshments will be served before and after the panels. </p>\n\nIf you need an accommodation to participate in this event, please contact the event sponsor or the Texas Law Special Events Office at specialevents@law.utexas.edu no later than seven business days prior to the event.
X-ALT-DESC;FMTTYPE=text/html:<p>The Texas Journal on Civil Liberties and Civil Rights invites you to join a conversation about overcoming legal barriers in accessing health care. The Symposium will feature three panels: Mental Health and its Destigmatization, Access to Health Care for People with Disabilities, and Access to Health Care for People Who Identify as Transgender. Panels will feature University of Texas Professors, Judges, and local attorneys. Light refreshments will be served before and after the panels. </p><p>If you need an accommodation to participate in this event, please contact the event
                                          event sponsor or the Texas Law Special Events Office at <a href="mailto:specialevents@law.utexas.edu">specialevents@law.utexas.edu</a> no later than seven business days prior to the event.</p>
CATEGORIES:Symposium
LOCATION:CCJ 2.306 - Eidman Courtroom
URL:http://law.utexas.edu/calendar/2020/03/05/49425/
CLASS:PUBLIC
STATUS:CONFIRMED
COMMENT:tjclcrconference@gmail.com
END:VEVENT
END:VCALENDAR