BEGIN:VCALENDAR
VERSION:2.0
PRODID:-//UNIVERSITY OF TEXAS SCHOOL OF LAW//NONSGML Events Calendar v1.0//EN
X-WR-TIMEZONE:America/Chicago
BEGIN:VTIMEZONE
TZID:US/Central
X-LIC-LOCATION:America/Chicago
BEGIN:DAYLIGHT
TZOFFSETFROM:-0600
TZOFFSETTO:-0500
TZNAME:CDT
DTSTART:19700308T020000
RRULE:FREQ=YEARLY;BYMONTH=3;BYDAY=2SU
END:DAYLIGHT
BEGIN:STANDARD
TZOFFSETFROM:-0500
TZOFFSETTO:-0600
TZNAME:CST
DTSTART:19701101T020000
RRULE:FREQ=YEARLY;BYMONTH=11;BYDAY=1SU
END:STANDARD
END:VTIMEZONE
BEGIN:VEVENT
DTSTART;TZID=US/Central:20200305T114500
DTEND;VALUE=DATE-TIME;TZID=US/Central:20200305T124500

DTSTAMP:20260419T155300Z
CREATED:20200117T181900Z
LAST-MODIFIED:20200117T181900Z
UID:20200305T114500-53965@law.utexas.edu
SUMMARY:1L Diversity Panel with Simpson Thatcher
DESCRIPTION:<p>Attorneys from Simpson Thatcher will be here for a 1L Diversity Panel over lunch for all the affinity groups at UT Law.</p>\n\nIf you need an accommodation to participate in this event, please contact the event sponsor or the Texas Law Special Events Office at specialevents@law.utexas.edu no later than seven business days prior to the event.
X-ALT-DESC;FMTTYPE=text/html:<p>Attorneys from Simpson Thatcher will be here for a 1L Diversity Panel over lunch for all the affinity groups at UT Law.</p><p>If you need an accommodation to participate in this event, please contact the event
                                          event sponsor or the Texas Law Special Events Office at <a href="mailto:specialevents@law.utexas.edu">specialevents@law.utexas.edu</a> no later than seven business days prior to the event.</p>
CATEGORIES:Lunch
LOCATION:TNH 2.139 - Wilson Classroom
URL:http://law.utexas.edu/calendar/2020/03/05/53965/
CLASS:PUBLIC
STATUS:CONFIRMED

END:VEVENT
END:VCALENDAR