BEGIN:VCALENDAR
VERSION:2.0
PRODID:-//UNIVERSITY OF TEXAS SCHOOL OF LAW//NONSGML Events Calendar v1.0//EN
X-WR-TIMEZONE:America/Chicago
BEGIN:VTIMEZONE
TZID:US/Central
X-LIC-LOCATION:America/Chicago
BEGIN:DAYLIGHT
TZOFFSETFROM:-0600
TZOFFSETTO:-0500
TZNAME:CDT
DTSTART:19700308T020000
RRULE:FREQ=YEARLY;BYMONTH=3;BYDAY=2SU
END:DAYLIGHT
BEGIN:STANDARD
TZOFFSETFROM:-0500
TZOFFSETTO:-0600
TZNAME:CST
DTSTART:19701101T020000
RRULE:FREQ=YEARLY;BYMONTH=11;BYDAY=1SU
END:STANDARD
END:VTIMEZONE
BEGIN:VEVENT
DTSTART;TZID=US/Central:20200305T170000
DTEND;VALUE=DATE-TIME;TZID=US/Central:20200305T190000

DTSTAMP:20260419T143800Z
CREATED:20200212T170700Z
LAST-MODIFIED:20200212T170700Z
UID:20200305T170000-54665@law.utexas.edu
SUMMARY:Texas Connects
DESCRIPTION:<p><a href="https://law.utexas.edu/career/finding-employment/texas-connects-california-and-new-york-student-registration/.">RSVP</a> and/or submit your resume online by Tuesday, February 26, 2019. California and New York are two of the top states from where our students hail and graduates launch their legal careers. We invite you to learn more about these legal markets from attorneys and recruiters at top law firms. Don’t miss this chance to connect with practitioners and recruiters in this fun and interactive networking event. Hors-d'oeuvres and drinks will be served. Dress is business casual.</p>\n\nIf you need an accommodation to participate in this event, please contact the event sponsor or the Texas Law Special Events Office at specialevents@law.utexas.edu no later than seven business days prior to the event.
X-ALT-DESC;FMTTYPE=text/html:<p><a href="https://law.utexas.edu/career/finding-employment/texas-connects-california-and-new-york-student-registration/.">RSVP</a> and/or submit your resume online by Tuesday, February 26, 2019. California and New York are two of the top states from where our students hail and graduates launch their legal careers. We invite you to learn more about these legal markets from attorneys and recruiters at top law firms. Don’t miss this chance to connect with practitioners and recruiters in this fun and interactive networking event. Hors-d'oeuvres and drinks will be served. Dress is business casual.</p><p>If you need an accommodation to participate in this event, please contact the event
                                          event sponsor or the Texas Law Special Events Office at <a href="mailto:specialevents@law.utexas.edu">specialevents@law.utexas.edu</a> no later than seven business days prior to the event.</p>
CATEGORIES:Reception
LOCATION:TNH 2.100 - Susman Godfrey Atrium
URL:http://law.utexas.edu/calendar/2020/03/05/54665/
CLASS:PUBLIC
STATUS:CONFIRMED
COMMENT:Please contact <a href="tmorales@law.utexas.edu">Tim Morales</a>, Events Specialist.
END:VEVENT
END:VCALENDAR