BEGIN:VCALENDAR
VERSION:2.0
PRODID:-//UNIVERSITY OF TEXAS SCHOOL OF LAW//NONSGML Events Calendar v1.0//EN
X-WR-TIMEZONE:America/Chicago
BEGIN:VTIMEZONE
TZID:US/Central
X-LIC-LOCATION:America/Chicago
BEGIN:DAYLIGHT
TZOFFSETFROM:-0600
TZOFFSETTO:-0500
TZNAME:CDT
DTSTART:19700308T020000
RRULE:FREQ=YEARLY;BYMONTH=3;BYDAY=2SU
END:DAYLIGHT
BEGIN:STANDARD
TZOFFSETFROM:-0500
TZOFFSETTO:-0600
TZNAME:CST
DTSTART:19701101T020000
RRULE:FREQ=YEARLY;BYMONTH=11;BYDAY=1SU
END:STANDARD
END:VTIMEZONE
BEGIN:VEVENT
DTSTART;TZID=US/Central:20200305T153000
DTEND;VALUE=DATE-TIME;TZID=US/Central:20200305T161500

DTSTAMP:20260419T173600Z
CREATED:20200217T162000Z
LAST-MODIFIED:20200217T162000Z
UID:20200305T153000-54745@law.utexas.edu
SUMMARY:Society/DF Program Info Meeting
DESCRIPTION:<p>Are you interested in being a Dean's Fellow or Society coordinator in 20/21? Please attend one of two mandatory informational meetings. We'll discuss the application and selection process, as well as chat with current DFs and SCs to hear about their experiences. Sessions occur Tues, March 3 at 12:00pm and Thursday, March 5 at 3:30pm.</p>\n\nIf you need an accommodation to participate in this event, please contact the event sponsor or the Texas Law Special Events Office at specialevents@law.utexas.edu no later than seven business days prior to the event.
X-ALT-DESC;FMTTYPE=text/html:<p>Are you interested in being a Dean's Fellow or Society coordinator in 20/21? Please attend one of two mandatory informational meetings. We'll discuss the application and selection process, as well as chat with current DFs and SCs to hear about their experiences. Sessions occur Tues, March 3 at 12:00pm and Thursday, March 5 at 3:30pm.</p><p>If you need an accommodation to participate in this event, please contact the event
                                          event sponsor or the Texas Law Special Events Office at <a href="mailto:specialevents@law.utexas.edu">specialevents@law.utexas.edu</a> no later than seven business days prior to the event.</p>

LOCATION:TNH 2.138 - Blanton Classroom
URL:http://law.utexas.edu/calendar/2020/03/05/54745/
CLASS:PUBLIC
STATUS:CONFIRMED

END:VEVENT
END:VCALENDAR