BEGIN:VCALENDAR
VERSION:2.0
PRODID:-//UNIVERSITY OF TEXAS SCHOOL OF LAW//NONSGML Events Calendar v1.0//EN
X-WR-TIMEZONE:America/Chicago
BEGIN:VTIMEZONE
TZID:US/Central
X-LIC-LOCATION:America/Chicago
BEGIN:DAYLIGHT
TZOFFSETFROM:-0600
TZOFFSETTO:-0500
TZNAME:CDT
DTSTART:19700308T020000
RRULE:FREQ=YEARLY;BYMONTH=3;BYDAY=2SU
END:DAYLIGHT
BEGIN:STANDARD
TZOFFSETFROM:-0500
TZOFFSETTO:-0600
TZNAME:CST
DTSTART:19701101T020000
RRULE:FREQ=YEARLY;BYMONTH=11;BYDAY=1SU
END:STANDARD
END:VTIMEZONE
BEGIN:VEVENT
DTSTART;TZID=US/Central:20200306T130000
DTEND;VALUE=DATE-TIME;TZID=US/Central:20200306T150000

DTSTAMP:20260419T185700Z
CREATED:20200206T184200Z
LAST-MODIFIED:20200212T224800Z
UID:20200306T130000-54548@law.utexas.edu
SUMMARY:disABILITY Advocate Foundation Training
DESCRIPTION:<p>The Foundation training is designed to facilitate open conversation and provide an engaging learning environment through interactive activities and discussion. Participants will learn specific strategies to make campus more accessible and inclusive for people with disabilities within their role at UT. Each participant will receive a disABILITY Advocate placard that indicates completion of the program and willingness to be an advocate on campus.</p>\n\nIf you need an accommodation to participate in this event, please contact the event sponsor or the Texas Law Special Events Office at specialevents@law.utexas.edu no later than seven business days prior to the event.
X-ALT-DESC;FMTTYPE=text/html:<p>The Foundation training is designed to facilitate open conversation and provide an engaging learning environment through interactive activities and discussion. Participants will learn specific strategies to make campus more accessible and inclusive for people with disabilities within their role at UT. Each participant will receive a disABILITY Advocate placard that indicates completion of the program and willingness to be an advocate on campus.</p><p>If you need an accommodation to participate in this event, please contact the event
                                          event sponsor or the Texas Law Special Events Office at <a href="mailto:specialevents@law.utexas.edu">specialevents@law.utexas.edu</a> no later than seven business days prior to the event.</p>
CATEGORIES:Workshop / Training Program
LOCATION:TNH 3.124 - Neathery Classroom
URL:http://law.utexas.edu/calendar/2020/03/06/54548/
CLASS:PUBLIC
STATUS:CONFIRMED

END:VEVENT
END:VCALENDAR