BEGIN:VCALENDAR
VERSION:2.0
PRODID:-//UNIVERSITY OF TEXAS SCHOOL OF LAW//NONSGML Events Calendar v1.0//EN
X-WR-TIMEZONE:America/Chicago
BEGIN:VTIMEZONE
TZID:US/Central
X-LIC-LOCATION:America/Chicago
BEGIN:DAYLIGHT
TZOFFSETFROM:-0600
TZOFFSETTO:-0500
TZNAME:CDT
DTSTART:19700308T020000
RRULE:FREQ=YEARLY;BYMONTH=3;BYDAY=2SU
END:DAYLIGHT
BEGIN:STANDARD
TZOFFSETFROM:-0500
TZOFFSETTO:-0600
TZNAME:CST
DTSTART:19701101T020000
RRULE:FREQ=YEARLY;BYMONTH=11;BYDAY=1SU
END:STANDARD
END:VTIMEZONE
BEGIN:VEVENT
DTSTART;TZID=US/Central:20200309T154500
DTEND;VALUE=DATE-TIME;TZID=US/Central:20200309T173000

DTSTAMP:20260419T201500Z
CREATED:20200115T214000Z
LAST-MODIFIED:20200115T214200Z
UID:20200309T154500-53868@law.utexas.edu
SUMMARY:Business Law Workshop Seminar - Fontenay
DESCRIPTION:<p>Elisabeth de Fontenay, Duke University, will be the guest speaker at this week's workshop</p>\n\nIf you need an accommodation to participate in this event, please contact the event sponsor or the Texas Law Special Events Office at specialevents@law.utexas.edu no later than seven business days prior to the event. Speaker: Elisabeth de Fontenay, P, Duke University
X-ALT-DESC;FMTTYPE=text/html:<p>Elisabeth de Fontenay, Duke University, will be the guest speaker at this week's workshop</p><p>If you need an accommodation to participate in this event, please contact the event
                                          event sponsor or the Texas Law Special Events Office at <a href="mailto:specialevents@law.utexas.edu">specialevents@law.utexas.edu</a> no later than seven business days prior to the event.</p> Speaker: Elisabeth de Fontenay, P, Duke University

LOCATION:JON 5.206 - Susman Academic Center, Bryan and Michelle Goolsby Conference Suite (5.206 / 5.207)
URL:http://law.utexas.edu/calendar/2020/03/09/53868/
CLASS:PUBLIC
STATUS:CONFIRMED

END:VEVENT
END:VCALENDAR