BEGIN:VCALENDAR
VERSION:2.0
PRODID:-//UNIVERSITY OF TEXAS SCHOOL OF LAW//NONSGML Events Calendar v1.0//EN
X-WR-TIMEZONE:America/Chicago
BEGIN:VTIMEZONE
TZID:US/Central
X-LIC-LOCATION:America/Chicago
BEGIN:DAYLIGHT
TZOFFSETFROM:-0600
TZOFFSETTO:-0500
TZNAME:CDT
DTSTART:19700308T020000
RRULE:FREQ=YEARLY;BYMONTH=3;BYDAY=2SU
END:DAYLIGHT
BEGIN:STANDARD
TZOFFSETFROM:-0500
TZOFFSETTO:-0600
TZNAME:CST
DTSTART:19701101T020000
RRULE:FREQ=YEARLY;BYMONTH=11;BYDAY=1SU
END:STANDARD
END:VTIMEZONE
BEGIN:VEVENT
DTSTART;TZID=US/Central:20200310T120000
DTEND;VALUE=DATE-TIME;TZID=US/Central:20200310T124500

DTSTAMP:20260419T155400Z
CREATED:20200106T223500Z
LAST-MODIFIED:20200306T173100Z
UID:20200310T120000-53666@law.utexas.edu
SUMMARY:TX and NM Bar Exam Info Session
DESCRIPTION:<p>The Executive Directors of both the Texas and New Mexico Bar Examiners will discuss the process and format for taking the bar exam in another state and transferring scores into Texas. </p>
  <p>Anyone who is considering taking the UBE this summer and transferring in their score should attend this informative session. Lunch will be served!</p>\n\nIf you need an accommodation to participate in this event, please contact the event sponsor or the Texas Law Special Events Office at specialevents@law.utexas.edu no later than seven business days prior to the event.
X-ALT-DESC;FMTTYPE=text/html:<p>The Executive Directors of both the Texas and New Mexico Bar Examiners will discuss the process and format for taking the bar exam in another state and transferring scores into Texas. </p>
  <p>Anyone who is considering taking the UBE this summer and transferring in their score should attend this informative session. Lunch will be served!</p><p>If you need an accommodation to participate in this event, please contact the event
                                          event sponsor or the Texas Law Special Events Office at <a href="mailto:specialevents@law.utexas.edu">specialevents@law.utexas.edu</a> no later than seven business days prior to the event.</p>
CATEGORIES:Workshop / Training Program
LOCATION:TNH 2.137 - Gayle Classroom
URL:http://law.utexas.edu/calendar/2020/03/10/53666/
CLASS:PUBLIC
STATUS:CONFIRMED

END:VEVENT
END:VCALENDAR