BEGIN:VCALENDAR
VERSION:2.0
PRODID:-//UNIVERSITY OF TEXAS SCHOOL OF LAW//NONSGML Events Calendar v1.0//EN
X-WR-TIMEZONE:America/Chicago
BEGIN:VTIMEZONE
TZID:US/Central
X-LIC-LOCATION:America/Chicago
BEGIN:DAYLIGHT
TZOFFSETFROM:-0600
TZOFFSETTO:-0500
TZNAME:CDT
DTSTART:19700308T020000
RRULE:FREQ=YEARLY;BYMONTH=3;BYDAY=2SU
END:DAYLIGHT
BEGIN:STANDARD
TZOFFSETFROM:-0500
TZOFFSETTO:-0600
TZNAME:CST
DTSTART:19701101T020000
RRULE:FREQ=YEARLY;BYMONTH=11;BYDAY=1SU
END:STANDARD
END:VTIMEZONE
BEGIN:VEVENT
DTSTART;TZID=US/Central:20200310T114500
DTEND;VALUE=DATE-TIME;TZID=US/Central:20200310T130000

DTSTAMP:20260419T141700Z
CREATED:20200116T174600Z
LAST-MODIFIED:20200302T144900Z
UID:20200310T114500-53908@law.utexas.edu
SUMMARY:FedSoc Debate: Stare Decisis
DESCRIPTION:<p>Join our chapter for another lunch debate! Syndicated columnist and of Counsel at First Liberty Institute, Josh Hammer, will be joining us to debate Texas Law's own Professor Vladeck on the constitutionality of stare decisis. Lunch will be served.</p>\n\nIf you need an accommodation to participate in this event, please contact the event sponsor or the Texas Law Special Events Office at specialevents@law.utexas.edu no later than seven business days prior to the event.
X-ALT-DESC;FMTTYPE=text/html:<p>Join our chapter for another lunch debate! Syndicated columnist and of Counsel at First Liberty Institute, Josh Hammer, will be joining us to debate Texas Law's own Professor Vladeck on the constitutionality of stare decisis. Lunch will be served.</p><p>If you need an accommodation to participate in this event, please contact the event
                                          event sponsor or the Texas Law Special Events Office at <a href="mailto:specialevents@law.utexas.edu">specialevents@law.utexas.edu</a> no later than seven business days prior to the event.</p>
CATEGORIES:Panel Discussion / Speaker Series
LOCATION:TNH 2.140 - Wright Classroom
URL:http://law.utexas.edu/calendar/2020/03/10/53908/
CLASS:PUBLIC
STATUS:CONFIRMED

END:VEVENT
END:VCALENDAR