BEGIN:VCALENDAR
VERSION:2.0
PRODID:-//UNIVERSITY OF TEXAS SCHOOL OF LAW//NONSGML Events Calendar v1.0//EN
X-WR-TIMEZONE:America/Chicago
BEGIN:VTIMEZONE
TZID:US/Central
X-LIC-LOCATION:America/Chicago
BEGIN:DAYLIGHT
TZOFFSETFROM:-0600
TZOFFSETTO:-0500
TZNAME:CDT
DTSTART:19700308T020000
RRULE:FREQ=YEARLY;BYMONTH=3;BYDAY=2SU
END:DAYLIGHT
BEGIN:STANDARD
TZOFFSETFROM:-0500
TZOFFSETTO:-0600
TZNAME:CST
DTSTART:19701101T020000
RRULE:FREQ=YEARLY;BYMONTH=11;BYDAY=1SU
END:STANDARD
END:VTIMEZONE
BEGIN:VEVENT
DTSTART;TZID=US/Central:20200312T114500
DTEND;VALUE=DATE-TIME;TZID=US/Central:20200312T124500

DTSTAMP:20260419T191700Z
CREATED:20191205T191500Z
LAST-MODIFIED:20191217T210500Z
UID:20200312T114500-53066@law.utexas.edu
SUMMARY:Public Interest Graduate Fellowships
DESCRIPTION:<p>Learn about the postgraduate fellowship application process from a panel of students/prior fellowship awardees.</p><p> Panelists TBD.</p>
  <p>Lunch will be served. RSVP by Wednesday, March 11, on <a href="https://law-utexas-csm.symplicity.com/students/index.php?s=event&amp;ss=ws&amp;_ksl=1&amp;mode=list">Symplicity</a>. </p>\n\nIf you need an accommodation to participate in this event, please contact the event sponsor or the Texas Law Special Events Office at specialevents@law.utexas.edu no later than seven business days prior to the event.
X-ALT-DESC;FMTTYPE=text/html:<p>Learn about the postgraduate fellowship application process from a panel of students/prior fellowship awardees.</p><p> Panelists TBD.</p>
  <p>Lunch will be served. RSVP by Wednesday, March 11, on <a href="https://law-utexas-csm.symplicity.com/students/index.php?s=event&amp;ss=ws&amp;_ksl=1&amp;mode=list">Symplicity</a>. </p><p>If you need an accommodation to participate in this event, please contact the event
                                          event sponsor or the Texas Law Special Events Office at <a href="mailto:specialevents@law.utexas.edu">specialevents@law.utexas.edu</a> no later than seven business days prior to the event.</p>
CATEGORIES:Panel Discussion / Speaker Series
LOCATION:TNH 2.124 - Reaud Classroom
URL:http://law.utexas.edu/calendar/2020/03/12/53066/
CLASS:PUBLIC
STATUS:CONFIRMED
COMMENT:Please contact <a href="lkonvalinka@law.utexas.edu">Lawson Konvalinka</a>, Public Interest Career Counselor
END:VEVENT
END:VCALENDAR