BEGIN:VCALENDAR
VERSION:2.0
PRODID:-//UNIVERSITY OF TEXAS SCHOOL OF LAW//NONSGML Events Calendar v1.0//EN
X-WR-TIMEZONE:America/Chicago
BEGIN:VTIMEZONE
TZID:US/Central
X-LIC-LOCATION:America/Chicago
BEGIN:DAYLIGHT
TZOFFSETFROM:-0600
TZOFFSETTO:-0500
TZNAME:CDT
DTSTART:19700308T020000
RRULE:FREQ=YEARLY;BYMONTH=3;BYDAY=2SU
END:DAYLIGHT
BEGIN:STANDARD
TZOFFSETFROM:-0500
TZOFFSETTO:-0600
TZNAME:CST
DTSTART:19701101T020000
RRULE:FREQ=YEARLY;BYMONTH=11;BYDAY=1SU
END:STANDARD
END:VTIMEZONE
BEGIN:VEVENT
DTSTART;TZID=US/Central:20200312T114500
DTEND;VALUE=DATE-TIME;TZID=US/Central:20200312T130000

DTSTAMP:20260419T155300Z
CREATED:20200116T173900Z
LAST-MODIFIED:20200116T173900Z
UID:20200312T114500-53906@law.utexas.edu
SUMMARY:"Presidential Power in the Age of Trump"
DESCRIPTION:<p>Come join the Federalist Society for another one of our lunch debates. This debate will future Yale Law School professor Logan Beirne, who will be debating Texas Law's own Professor Sandy Levinson on Presidential Power in the Age of Trump. The debate will be from 11:45-1:00. Lunch will be served.</p>\n\nIf you need an accommodation to participate in this event, please contact the event sponsor or the Texas Law Special Events Office at specialevents@law.utexas.edu no later than seven business days prior to the event.
X-ALT-DESC;FMTTYPE=text/html:<p>Come join the Federalist Society for another one of our lunch debates. This debate will future Yale Law School professor Logan Beirne, who will be debating Texas Law's own Professor Sandy Levinson on Presidential Power in the Age of Trump. The debate will be from 11:45-1:00. Lunch will be served.</p><p>If you need an accommodation to participate in this event, please contact the event
                                          event sponsor or the Texas Law Special Events Office at <a href="mailto:specialevents@law.utexas.edu">specialevents@law.utexas.edu</a> no later than seven business days prior to the event.</p>
CATEGORIES:Panel Discussion / Speaker Series
LOCATION:TNH 2.139 - Wilson Classroom
URL:http://law.utexas.edu/calendar/2020/03/12/53906/
CLASS:PUBLIC
STATUS:CONFIRMED

END:VEVENT
END:VCALENDAR