BEGIN:VCALENDAR
VERSION:2.0
PRODID:-//UNIVERSITY OF TEXAS SCHOOL OF LAW//NONSGML Events Calendar v1.0//EN
X-WR-TIMEZONE:America/Chicago
BEGIN:VTIMEZONE
TZID:US/Central
X-LIC-LOCATION:America/Chicago
BEGIN:DAYLIGHT
TZOFFSETFROM:-0600
TZOFFSETTO:-0500
TZNAME:CDT
DTSTART:19700308T020000
RRULE:FREQ=YEARLY;BYMONTH=3;BYDAY=2SU
END:DAYLIGHT
BEGIN:STANDARD
TZOFFSETFROM:-0500
TZOFFSETTO:-0600
TZNAME:CST
DTSTART:19701101T020000
RRULE:FREQ=YEARLY;BYMONTH=11;BYDAY=1SU
END:STANDARD
END:VTIMEZONE
BEGIN:VEVENT
DTSTART;TZID=US/Central:20200324T120000
DTEND;VALUE=DATE-TIME;TZID=US/Central:20200324T130000

DTSTAMP:20260419T161300Z
CREATED:20200310T040900Z
LAST-MODIFIED:20200310T040900Z
UID:20200324T120000-55105@law.utexas.edu
SUMMARY:CANCELED: Bar Exam Mini Session
DESCRIPTION:<p>The bar exam is coming...start prepping now. Three mini sessions will give you a preview of what's to come and help you get ready for your study period. These mini sessions applies to all students; we'll discuss differences between jurisdictions. </p>
  <p>Session 1 (March 24): We'll discuss the the bar exam generally, your study plan, and the different sections of the bar.
  Session 2 (March 31): Strategies to attack the MBE: The Multistate Bar Exam. 200 questions, multiple choice, 1L subjects + Evidence. 
  Session 3 (April 7): Bar Essay Exams. They're short, they're different, and we'll write some answers in this session. Take a diagnostic and see where you in your bar essay writing skills. </p>\n\nIf you need an accommodation to participate in this event, please contact the event sponsor or the Texas Law Special Events Office at specialevents@law.utexas.edu no later than seven business days prior to the event.
X-ALT-DESC;FMTTYPE=text/html:<p>The bar exam is coming...start prepping now. Three mini sessions will give you a preview of what's to come and help you get ready for your study period. These mini sessions applies to all students; we'll discuss differences between jurisdictions. </p>
  <p>Session 1 (March 24): We'll discuss the the bar exam generally, your study plan, and the different sections of the bar.
  Session 2 (March 31): Strategies to attack the MBE: The Multistate Bar Exam. 200 questions, multiple choice, 1L subjects + Evidence. 
  Session 3 (April 7): Bar Essay Exams. They're short, they're different, and we'll write some answers in this session. Take a diagnostic and see where you in your bar essay writing skills. </p><p>If you need an accommodation to participate in this event, please contact the event
                                          event sponsor or the Texas Law Special Events Office at <a href="mailto:specialevents@law.utexas.edu">specialevents@law.utexas.edu</a> no later than seven business days prior to the event.</p>
CATEGORIES:Workshop / Training Program
LOCATION:TNH 2.124 - Reaud Classroom
URL:http://law.utexas.edu/calendar/2020/03/24/55105/
CLASS:PUBLIC
STATUS:CANCELLED

END:VEVENT
END:VCALENDAR