BEGIN:VCALENDAR
VERSION:2.0
PRODID:-//UNIVERSITY OF TEXAS SCHOOL OF LAW//NONSGML Events Calendar v1.0//EN
X-WR-TIMEZONE:America/Chicago
BEGIN:VTIMEZONE
TZID:US/Central
X-LIC-LOCATION:America/Chicago
BEGIN:DAYLIGHT
TZOFFSETFROM:-0600
TZOFFSETTO:-0500
TZNAME:CDT
DTSTART:19700308T020000
RRULE:FREQ=YEARLY;BYMONTH=3;BYDAY=2SU
END:DAYLIGHT
BEGIN:STANDARD
TZOFFSETFROM:-0500
TZOFFSETTO:-0600
TZNAME:CST
DTSTART:19701101T020000
RRULE:FREQ=YEARLY;BYMONTH=11;BYDAY=1SU
END:STANDARD
END:VTIMEZONE
BEGIN:VEVENT
DTSTART;TZID=US/Central:20200331T120000
DTEND;VALUE=DATE-TIME;TZID=US/Central:20200331T130000

DTSTAMP:20260419T141700Z
CREATED:20191119T221100Z
LAST-MODIFIED:20200331T045800Z
UID:20200331T120000-52585@law.utexas.edu
SUMMARY:Virtual Clinic and Internship Info
DESCRIPTION:<p>Join clinical faculty and staff online to discuss Texas Law's clinical program. Visit us at <a href="https://law.utexas.edu/clinics/information-for-students/">https://law.utexas.edu/clinics/information-for-students/</a>(EID required) </p>\n\nIf you need an accommodation to participate in this event, please contact the event sponsor or the Texas Law Special Events Office at specialevents@law.utexas.edu no later than seven business days prior to the event.
X-ALT-DESC;FMTTYPE=text/html:<p>Join clinical faculty and staff online to discuss Texas Law's clinical program. Visit us at <a href="https://law.utexas.edu/clinics/information-for-students/">https://law.utexas.edu/clinics/information-for-students/</a>(EID required) </p><p>If you need an accommodation to participate in this event, please contact the event
                                          event sponsor or the Texas Law Special Events Office at <a href="mailto:specialevents@law.utexas.edu">specialevents@law.utexas.edu</a> no later than seven business days prior to the event.</p>


URL:http://law.utexas.edu/calendar/2020/03/31/52585/
CLASS:PUBLIC
STATUS:CONFIRMED

END:VEVENT
END:VCALENDAR