BEGIN:VCALENDAR
VERSION:2.0
PRODID:-//UNIVERSITY OF TEXAS SCHOOL OF LAW//NONSGML Events Calendar v1.0//EN
X-WR-TIMEZONE:America/Chicago
BEGIN:VTIMEZONE
TZID:US/Central
X-LIC-LOCATION:America/Chicago
BEGIN:DAYLIGHT
TZOFFSETFROM:-0600
TZOFFSETTO:-0500
TZNAME:CDT
DTSTART:19700308T020000
RRULE:FREQ=YEARLY;BYMONTH=3;BYDAY=2SU
END:DAYLIGHT
BEGIN:STANDARD
TZOFFSETFROM:-0500
TZOFFSETTO:-0600
TZNAME:CST
DTSTART:19701101T020000
RRULE:FREQ=YEARLY;BYMONTH=11;BYDAY=1SU
END:STANDARD
END:VTIMEZONE
BEGIN:VEVENT
DTSTART;TZID=US/Central:20200415T120000
DTEND;VALUE=DATE-TIME;TZID=US/Central:20200415T130000

DTSTAMP:20260419T191800Z
CREATED:20200413T014800Z
LAST-MODIFIED:20200413T014800Z
UID:20200415T120000-55425@law.utexas.edu
SUMMARY:The Legal Issues Arising from the COVID-
DESCRIPTION:<p>This Wednesday at noon, join Professors Denise Gilman, Jennifer Lauren, Liz Sepper, and Steve Vladeck for a wide-ranging panel discussion and Q&amp;A via Zoom covering some of the myriad legal issues arising from the local, state, and federal government responses to the COVID-19 pandemic. Food will, alas, not be provided.</p>
  <p><a href="https://utexas.zoom.us/j/97269456747">https://utexas.zoom.us/j/97269456747</a></p>\n\nIf you need an accommodation to participate in this event, please contact the event sponsor or the Texas Law Special Events Office at specialevents@law.utexas.edu no later than seven business days prior to the event.
X-ALT-DESC;FMTTYPE=text/html:<p>This Wednesday at noon, join Professors Denise Gilman, Jennifer Lauren, Liz Sepper, and Steve Vladeck for a wide-ranging panel discussion and Q&amp;A via Zoom covering some of the myriad legal issues arising from the local, state, and federal government responses to the COVID-19 pandemic. Food will, alas, not be provided.</p>
  <p><a href="https://utexas.zoom.us/j/97269456747">https://utexas.zoom.us/j/97269456747</a></p><p>If you need an accommodation to participate in this event, please contact the event
                                          event sponsor or the Texas Law Special Events Office at <a href="mailto:specialevents@law.utexas.edu">specialevents@law.utexas.edu</a> no later than seven business days prior to the event.</p>
CATEGORIES:Panel Discussion / Speaker Series
LOCATION:https://utexas.zoom.us/j/97269456747
URL:http://law.utexas.edu/calendar/2020/04/15/55425/
CLASS:PUBLIC
STATUS:CONFIRMED

END:VEVENT
END:VCALENDAR