BEGIN:VCALENDAR
VERSION:2.0
PRODID:-//UNIVERSITY OF TEXAS SCHOOL OF LAW//NONSGML Events Calendar v1.0//EN
X-WR-TIMEZONE:America/Chicago
BEGIN:VTIMEZONE
TZID:US/Central
X-LIC-LOCATION:America/Chicago
BEGIN:DAYLIGHT
TZOFFSETFROM:-0600
TZOFFSETTO:-0500
TZNAME:CDT
DTSTART:19700308T020000
RRULE:FREQ=YEARLY;BYMONTH=3;BYDAY=2SU
END:DAYLIGHT
BEGIN:STANDARD
TZOFFSETFROM:-0500
TZOFFSETTO:-0600
TZNAME:CST
DTSTART:19701101T020000
RRULE:FREQ=YEARLY;BYMONTH=11;BYDAY=1SU
END:STANDARD
END:VTIMEZONE
BEGIN:VEVENT
DTSTART;TZID=US/Central:20201104T170000
DTEND;VALUE=DATE-TIME;TZID=US/Central:20201104T180000

DTSTAMP:20260419T183900Z
CREATED:20201027T015600Z
LAST-MODIFIED:20201027T015600Z
UID:20201104T170000-58125@law.utexas.edu
SUMMARY:IPLS Speaker Event - Knobbe Martens
DESCRIPTION:<p>Join the Intellectual Property Law Society for a meet and greet with the attorneys at Knobbe Martens. This is an excellent opportunity for law students interested in Intellectual Property to have their questions answered and to connect with practicing attorneys.</p>\n\nIf you need an accommodation to participate in this event, please contact the event sponsor or the Texas Law Special Events Office at specialevents@law.utexas.edu no later than seven business days prior to the event.
X-ALT-DESC;FMTTYPE=text/html:<p>Join the Intellectual Property Law Society for a meet and greet with the attorneys at Knobbe Martens. This is an excellent opportunity for law students interested in Intellectual Property to have their questions answered and to connect with practicing attorneys.</p><p>If you need an accommodation to participate in this event, please contact the event
                                          event sponsor or the Texas Law Special Events Office at <a href="mailto:specialevents@law.utexas.edu">specialevents@law.utexas.edu</a> no later than seven business days prior to the event.</p>

LOCATION:https://utexas.zoom.us/j/92902028621
URL:http://law.utexas.edu/calendar/2020/11/04/58125/
CLASS:PUBLIC
STATUS:CONFIRMED

END:VEVENT
END:VCALENDAR