BEGIN:VCALENDAR
VERSION:2.0
PRODID:-//UNIVERSITY OF TEXAS SCHOOL OF LAW//NONSGML Events Calendar v1.0//EN
X-WR-TIMEZONE:America/Chicago
BEGIN:VTIMEZONE
TZID:US/Central
X-LIC-LOCATION:America/Chicago
BEGIN:DAYLIGHT
TZOFFSETFROM:-0600
TZOFFSETTO:-0500
TZNAME:CDT
DTSTART:19700308T020000
RRULE:FREQ=YEARLY;BYMONTH=3;BYDAY=2SU
END:DAYLIGHT
BEGIN:STANDARD
TZOFFSETFROM:-0500
TZOFFSETTO:-0600
TZNAME:CST
DTSTART:19701101T020000
RRULE:FREQ=YEARLY;BYMONTH=11;BYDAY=1SU
END:STANDARD
END:VTIMEZONE
BEGIN:VEVENT
DTSTART;TZID=US/Central:20201106T170000
DTEND;VALUE=DATE-TIME;TZID=US/Central:20201106T180000

DTSTAMP:20260419T155300Z
CREATED:20201017T163900Z
LAST-MODIFIED:20201017T163900Z
UID:20201106T170000-57945@law.utexas.edu
SUMMARY:Art Trivia Night with TLAA
DESCRIPTION:<p>Come spend a night relaxing, laughing and playing some art trivia with your pals at the Texas Law Art Association! Questions will cover plenty of art mediums and topics, and all in all we'll just be enjoying a great time as cool humans who like art.</p>\n\nIf you need an accommodation to participate in this event, please contact the event sponsor or the Texas Law Special Events Office at specialevents@law.utexas.edu no later than seven business days prior to the event.
X-ALT-DESC;FMTTYPE=text/html:<p>Come spend a night relaxing, laughing and playing some art trivia with your pals at the Texas Law Art Association! Questions will cover plenty of art mediums and topics, and all in all we'll just be enjoying a great time as cool humans who like art.</p><p>If you need an accommodation to participate in this event, please contact the event
                                          event sponsor or the Texas Law Special Events Office at <a href="mailto:specialevents@law.utexas.edu">specialevents@law.utexas.edu</a> no later than seven business days prior to the event.</p>
CATEGORIES:Other

URL:http://law.utexas.edu/calendar/2020/11/06/57945/
CLASS:PUBLIC
STATUS:CONFIRMED

END:VEVENT
END:VCALENDAR