BEGIN:VCALENDAR
VERSION:2.0
PRODID:-//UNIVERSITY OF TEXAS SCHOOL OF LAW//NONSGML Events Calendar v1.0//EN
X-WR-TIMEZONE:America/Chicago
BEGIN:VTIMEZONE
TZID:US/Central
X-LIC-LOCATION:America/Chicago
BEGIN:DAYLIGHT
TZOFFSETFROM:-0600
TZOFFSETTO:-0500
TZNAME:CDT
DTSTART:19700308T020000
RRULE:FREQ=YEARLY;BYMONTH=3;BYDAY=2SU
END:DAYLIGHT
BEGIN:STANDARD
TZOFFSETFROM:-0500
TZOFFSETTO:-0600
TZNAME:CST
DTSTART:19701101T020000
RRULE:FREQ=YEARLY;BYMONTH=11;BYDAY=1SU
END:STANDARD
END:VTIMEZONE
BEGIN:VEVENT
DTSTART;TZID=US/Central:20201113T160000
DTEND;VALUE=DATE-TIME;TZID=US/Central:20201113T170000

DTSTAMP:20260419T154700Z
CREATED:20201108T125900Z
LAST-MODIFIED:20201108T125900Z
UID:20201113T160000-58325@law.utexas.edu
SUMMARY:THJ/JOLTT Immigration Technology Panel
DESCRIPTION:<p>The Texas Hispanic Journal of Law and Policy and The Journal of Law and Technology at Texas are co-sponsoring a panel that will discuss constitutional, technological, policy, and justice issues at the intersection of technology and immigration. The panel will feature Paromita Shah, the Executive Director of Just Futures, and Grace Bowers, the former Editor-in-Chief of JOLTT. It will be moderated by Elissa Steglich, Co-Director of the UT law Immigration Clinic. </p>\n\nIf you need an accommodation to participate in this event, please contact the event sponsor or the Texas Law Special Events Office at specialevents@law.utexas.edu no later than seven business days prior to the event.
X-ALT-DESC;FMTTYPE=text/html:<p>The Texas Hispanic Journal of Law and Policy and The Journal of Law and Technology at Texas are co-sponsoring a panel that will discuss constitutional, technological, policy, and justice issues at the intersection of technology and immigration. The panel will feature Paromita Shah, the Executive Director of Just Futures, and Grace Bowers, the former Editor-in-Chief of JOLTT. It will be moderated by Elissa Steglich, Co-Director of the UT law Immigration Clinic. </p><p>If you need an accommodation to participate in this event, please contact the event
                                          event sponsor or the Texas Law Special Events Office at <a href="mailto:specialevents@law.utexas.edu">specialevents@law.utexas.edu</a> no later than seven business days prior to the event.</p>


URL:http://law.utexas.edu/calendar/2020/11/13/58325/
CLASS:PUBLIC
STATUS:CONFIRMED

END:VEVENT
END:VCALENDAR