BEGIN:VCALENDAR
VERSION:2.0
PRODID:-//UNIVERSITY OF TEXAS SCHOOL OF LAW//NONSGML Events Calendar v1.0//EN
X-WR-TIMEZONE:America/Chicago
BEGIN:VTIMEZONE
TZID:US/Central
X-LIC-LOCATION:America/Chicago
BEGIN:DAYLIGHT
TZOFFSETFROM:-0600
TZOFFSETTO:-0500
TZNAME:CDT
DTSTART:19700308T020000
RRULE:FREQ=YEARLY;BYMONTH=3;BYDAY=2SU
END:DAYLIGHT
BEGIN:STANDARD
TZOFFSETFROM:-0500
TZOFFSETTO:-0600
TZNAME:CST
DTSTART:19701101T020000
RRULE:FREQ=YEARLY;BYMONTH=11;BYDAY=1SU
END:STANDARD
END:VTIMEZONE
BEGIN:VEVENT
DTSTART;TZID=US/Central:20210126T120000
DTEND;VALUE=DATE-TIME;TZID=US/Central:20210126T130000

DTSTAMP:20260419T152300Z
CREATED:20210112T200200Z
LAST-MODIFIED:20210112T201600Z
UID:20210126T120000-58825@law.utexas.edu
SUMMARY:ISIP 2021 Info Session
DESCRIPTION:<p>Learn about the International Student Interview Program. We will be discussing how the program works and changes for 2021, as well as how to apply to employers and prepare for interviews. </p>
  <p>Please RSVP by Sunday, January 24, on <a href="https://law-utexas-csm.symplicity.com/students/index.phps=event&amp;ss=ws&amp;_ksl=1&amp;mode=list">Symplicity</a>. Zoom link will then be sent on Monday, January 25. </p>\n\nIf you need an accommodation to participate in this event, please contact the event sponsor or the Texas Law Special Events Office at specialevents@law.utexas.edu no later than seven business days prior to the event.
X-ALT-DESC;FMTTYPE=text/html:<p>Learn about the International Student Interview Program. We will be discussing how the program works and changes for 2021, as well as how to apply to employers and prepare for interviews. </p>
  <p>Please RSVP by Sunday, January 24, on <a href="https://law-utexas-csm.symplicity.com/students/index.phps=event&amp;ss=ws&amp;_ksl=1&amp;mode=list">Symplicity</a>. Zoom link will then be sent on Monday, January 25. </p><p>If you need an accommodation to participate in this event, please contact the event
                                          event sponsor or the Texas Law Special Events Office at <a href="mailto:specialevents@law.utexas.edu">specialevents@law.utexas.edu</a> no later than seven business days prior to the event.</p>
CATEGORIES:Workshop / Training Program
LOCATION:Virtual
URL:http://law.utexas.edu/calendar/2021/01/26/58825/
CLASS:PUBLIC
STATUS:CONFIRMED
COMMENT:Please contact Rachel Smith, Career Counselor, at <a href="mailto:rsmith@law.utexas.edu">rsmith@law.utexas.edu</a>.
END:VEVENT
END:VCALENDAR