BEGIN:VCALENDAR
VERSION:2.0
PRODID:-//UNIVERSITY OF TEXAS SCHOOL OF LAW//NONSGML Events Calendar v1.0//EN
X-WR-TIMEZONE:America/Chicago
BEGIN:VTIMEZONE
TZID:US/Central
X-LIC-LOCATION:America/Chicago
BEGIN:DAYLIGHT
TZOFFSETFROM:-0600
TZOFFSETTO:-0500
TZNAME:CDT
DTSTART:19700308T020000
RRULE:FREQ=YEARLY;BYMONTH=3;BYDAY=2SU
END:DAYLIGHT
BEGIN:STANDARD
TZOFFSETFROM:-0500
TZOFFSETTO:-0600
TZNAME:CST
DTSTART:19701101T020000
RRULE:FREQ=YEARLY;BYMONTH=11;BYDAY=1SU
END:STANDARD
END:VTIMEZONE
BEGIN:VEVENT
DTSTART;TZID=US/Central:20210127T154500
DTEND;VALUE=DATE-TIME;TZID=US/Central:20210127T161500

DTSTAMP:20260420T010600Z
CREATED:20210114T155700Z
LAST-MODIFIED:20210129T165800Z
UID:20210127T154500-58905@law.utexas.edu
SUMMARY:Law School 101: What's Next?
DESCRIPTION:<p>Dean Bangs and Brandi Welch will talk about making sense of your first set of grades, how to talk to your fall faculty about your exams, and how you might approach the spring semester. This session is designed for all students, whether you did better than expected or not as well as you hoped.</p>
  <p>Join Zoom Meeting
  <a href="https://utexas.zoom.us/j/92501368503">https://utexas.zoom.us/j/92501368503</a> </p>
  <p>Meeting ID: 925 0136 8503</p>\n\nIf you need an accommodation to participate in this event, please contact the event sponsor or the Texas Law Special Events Office at specialevents@law.utexas.edu no later than seven business days prior to the event.
X-ALT-DESC;FMTTYPE=text/html:<p>Dean Bangs and Brandi Welch will talk about making sense of your first set of grades, how to talk to your fall faculty about your exams, and how you might approach the spring semester. This session is designed for all students, whether you did better than expected or not as well as you hoped.</p>
  <p>Join Zoom Meeting
  <a href="https://utexas.zoom.us/j/92501368503">https://utexas.zoom.us/j/92501368503</a> </p>
  <p>Meeting ID: 925 0136 8503</p><p>If you need an accommodation to participate in this event, please contact the event
                                          event sponsor or the Texas Law Special Events Office at <a href="mailto:specialevents@law.utexas.edu">specialevents@law.utexas.edu</a> no later than seven business days prior to the event.</p>
CATEGORIES:Workshop / Training Program

URL:http://law.utexas.edu/calendar/2021/01/27/58905/
CLASS:PUBLIC
STATUS:CONFIRMED

END:VEVENT
END:VCALENDAR