BEGIN:VCALENDAR
VERSION:2.0
PRODID:-//UNIVERSITY OF TEXAS SCHOOL OF LAW//NONSGML Events Calendar v1.0//EN
X-WR-TIMEZONE:America/Chicago
BEGIN:VTIMEZONE
TZID:US/Central
X-LIC-LOCATION:America/Chicago
BEGIN:DAYLIGHT
TZOFFSETFROM:-0600
TZOFFSETTO:-0500
TZNAME:CDT
DTSTART:19700308T020000
RRULE:FREQ=YEARLY;BYMONTH=3;BYDAY=2SU
END:DAYLIGHT
BEGIN:STANDARD
TZOFFSETFROM:-0500
TZOFFSETTO:-0600
TZNAME:CST
DTSTART:19701101T020000
RRULE:FREQ=YEARLY;BYMONTH=11;BYDAY=1SU
END:STANDARD
END:VTIMEZONE
BEGIN:VEVENT
DTSTART;TZID=US/Central:20210128T164500
DTEND;VALUE=DATE-TIME;TZID=US/Central:20210128T183000

DTSTAMP:20260419T145500Z
CREATED:20210115T162700Z
LAST-MODIFIED:20210119T201800Z
UID:20210128T164500-58985@law.utexas.edu
SUMMARY:TLR Symposium
DESCRIPTION:<p>Opening Supreme Court Panel with Professor Joel Seligman, Executive Director F. Paul Bland, Jr., Amy Saharia, and Professor Elizabeth Sepper.</p>\n\nIf you need an accommodation to participate in this event, please contact the event sponsor or the Texas Law Special Events Office at specialevents@law.utexas.edu no later than seven business days prior to the event.
X-ALT-DESC;FMTTYPE=text/html:<p>Opening Supreme Court Panel with Professor Joel Seligman, Executive Director F. Paul Bland, Jr., Amy Saharia, and Professor Elizabeth Sepper.</p><p>If you need an accommodation to participate in this event, please contact the event
                                          event sponsor or the Texas Law Special Events Office at <a href="mailto:specialevents@law.utexas.edu">specialevents@law.utexas.edu</a> no later than seven business days prior to the event.</p>
CATEGORIES:Symposium

URL:http://law.utexas.edu/calendar/2021/01/28/58985/
CLASS:PUBLIC
STATUS:CONFIRMED
COMMENT:email admin@texaslrev.com
END:VEVENT
END:VCALENDAR