BEGIN:VCALENDAR
VERSION:2.0
PRODID:-//UNIVERSITY OF TEXAS SCHOOL OF LAW//NONSGML Events Calendar v1.0//EN
X-WR-TIMEZONE:America/Chicago
BEGIN:VTIMEZONE
TZID:US/Central
X-LIC-LOCATION:America/Chicago
BEGIN:DAYLIGHT
TZOFFSETFROM:-0600
TZOFFSETTO:-0500
TZNAME:CDT
DTSTART:19700308T020000
RRULE:FREQ=YEARLY;BYMONTH=3;BYDAY=2SU
END:DAYLIGHT
BEGIN:STANDARD
TZOFFSETFROM:-0500
TZOFFSETTO:-0600
TZNAME:CST
DTSTART:19701101T020000
RRULE:FREQ=YEARLY;BYMONTH=11;BYDAY=1SU
END:STANDARD
END:VTIMEZONE
BEGIN:VEVENT
DTSTART;TZID=US/Central:20210128T183000
DTEND;VALUE=DATE-TIME;TZID=US/Central:20210128T193000

DTSTAMP:20260419T193400Z
CREATED:20210119T021100Z
LAST-MODIFIED:20210119T021100Z
UID:20210128T183000-59005@law.utexas.edu
SUMMARY:The Electoral College's Finest Hour?
DESCRIPTION:<p>Please join the Texas Federalist Society for its first debate of 2021! In recent years, the Electoral College has come under fire as outdated, and doubt has been cast on whether it still serves the best interests of the American people. Following a tumultuous election season, Professors Stephen Sachs of Duke Law and Sanford Levinson of Texas Law will be discussing the origins and structure of the electoral college and whether it should maintain its prominence in modern elections.</p>
  <p>The first 50 Texas Law students to register will receive a $10 redemption code for DoorDash to enjoy a meal during the event.</p>
  <p>Registration Link: <a href="https://forms.gle/HpsdoyEJz8Gxxq8f7">https://forms.gle/HpsdoyEJz8Gxxq8f7</a></p>
  <p>Note: Registration is not required to attend any of the Texas Federalist Society's virtual events this semester; it is only required for each event if you would like to make use of the DoorDash discount.</p>\n\nIf you need an accommodation to participate in this event, please contact the event sponsor or the Texas Law Special Events Office at specialevents@law.utexas.edu no later than seven business days prior to the event.
X-ALT-DESC;FMTTYPE=text/html:<p>Please join the Texas Federalist Society for its first debate of 2021! In recent years, the Electoral College has come under fire as outdated, and doubt has been cast on whether it still serves the best interests of the American people. Following a tumultuous election season, Professors Stephen Sachs of Duke Law and Sanford Levinson of Texas Law will be discussing the origins and structure of the electoral college and whether it should maintain its prominence in modern elections.</p>
  <p>The first 50 Texas Law students to register will receive a $10 redemption code for DoorDash to enjoy a meal during the event.</p>
  <p>Registration Link: <a href="https://forms.gle/HpsdoyEJz8Gxxq8f7">https://forms.gle/HpsdoyEJz8Gxxq8f7</a></p>
  <p>Note: Registration is not required to attend any of the Texas Federalist Society's virtual events this semester; it is only required for each event if you would like to make use of the DoorDash discount.</p><p>If you need an accommodation to participate in this event, please contact the event
                                          event sponsor or the Texas Law Special Events Office at <a href="mailto:specialevents@law.utexas.edu">specialevents@law.utexas.edu</a> no later than seven business days prior to the event.</p>
CATEGORIES:Panel Discussion / Speaker Series

URL:http://law.utexas.edu/calendar/2021/01/28/59005/
CLASS:PUBLIC
STATUS:CONFIRMED
COMMENT:Instagram, @texasfederalistsociety, Twitter: @UTLawFedSoc, FB: Texas Federalist Society
END:VEVENT
END:VCALENDAR