BEGIN:VCALENDAR
VERSION:2.0
PRODID:-//UNIVERSITY OF TEXAS SCHOOL OF LAW//NONSGML Events Calendar v1.0//EN
X-WR-TIMEZONE:America/Chicago
BEGIN:VTIMEZONE
TZID:US/Central
X-LIC-LOCATION:America/Chicago
BEGIN:DAYLIGHT
TZOFFSETFROM:-0600
TZOFFSETTO:-0500
TZNAME:CDT
DTSTART:19700308T020000
RRULE:FREQ=YEARLY;BYMONTH=3;BYDAY=2SU
END:DAYLIGHT
BEGIN:STANDARD
TZOFFSETFROM:-0500
TZOFFSETTO:-0600
TZNAME:CST
DTSTART:19701101T020000
RRULE:FREQ=YEARLY;BYMONTH=11;BYDAY=1SU
END:STANDARD
END:VTIMEZONE
BEGIN:VEVENT
DTSTART;TZID=US/Central:20210129T130000
DTEND;VALUE=DATE-TIME;TZID=US/Central:20210129T143000

DTSTAMP:20260419T172600Z
CREATED:20210120T181100Z
LAST-MODIFIED:20210120T181300Z
UID:20210129T130000-59046@law.utexas.edu
SUMMARY:COVID-19, Inequality, and Workers
DESCRIPTION:<p>Please join us for a discussion of the Rapoport Center’s recent report on the legal and political drivers behind the effects of COVID-19 on low-income Latinx construction workers in the Austin area. The event will feature responses to the report, with a focus on Austin’s accelerating urban growth and its impact on social determinants of health and worker organizing.</p>\n\nIf you need an accommodation to participate in this event, please contact the event sponsor or the Texas Law Special Events Office at specialevents@law.utexas.edu no later than seven business days prior to the event.
X-ALT-DESC;FMTTYPE=text/html:<p>Please join us for a discussion of the Rapoport Center’s recent report on the legal and political drivers behind the effects of COVID-19 on low-income Latinx construction workers in the Austin area. The event will feature responses to the report, with a focus on Austin’s accelerating urban growth and its impact on social determinants of health and worker organizing.</p><p>If you need an accommodation to participate in this event, please contact the event
                                          event sponsor or the Texas Law Special Events Office at <a href="mailto:specialevents@law.utexas.edu">specialevents@law.utexas.edu</a> no later than seven business days prior to the event.</p>
CATEGORIES:Panel Discussion / Speaker Series

URL:http://law.utexas.edu/calendar/2021/01/29/59046/
CLASS:PUBLIC
STATUS:CONFIRMED
COMMENT:Sarah Eliason at seliason@law.utexas.edu
END:VEVENT
END:VCALENDAR