BEGIN:VCALENDAR
VERSION:2.0
PRODID:-//UNIVERSITY OF TEXAS SCHOOL OF LAW//NONSGML Events Calendar v1.0//EN
X-WR-TIMEZONE:America/Chicago
BEGIN:VTIMEZONE
TZID:US/Central
X-LIC-LOCATION:America/Chicago
BEGIN:DAYLIGHT
TZOFFSETFROM:-0600
TZOFFSETTO:-0500
TZNAME:CDT
DTSTART:19700308T020000
RRULE:FREQ=YEARLY;BYMONTH=3;BYDAY=2SU
END:DAYLIGHT
BEGIN:STANDARD
TZOFFSETFROM:-0500
TZOFFSETTO:-0600
TZNAME:CST
DTSTART:19701101T020000
RRULE:FREQ=YEARLY;BYMONTH=11;BYDAY=1SU
END:STANDARD
END:VTIMEZONE
BEGIN:VEVENT
DTSTART;TZID=US/Central:20210227T110000
DTEND;VALUE=DATE-TIME;TZID=US/Central:20210227T120000

DTSTAMP:20260419T122900Z
CREATED:20210204T202100Z
LAST-MODIFIED:20210222T152300Z
UID:20210227T110000-59487@law.utexas.edu
SUMMARY:GRITS - Crimmigration
DESCRIPTION:<p>Through an expansive network of federal and local policing, the carceral state constantly entraps immigrants, especially immigrants of color. For example, in the past year alone, over 15,000 immigrants in Texas have been detained by the Department of Homeland Security. This panel of legal practitioners and community organizers will discuss the day-to-day havoc the system wreaks in communities of color, especially in the context of COVID-19. Their work within the intersection of criminal law and immigration addresses the xenophobic underpinnings of this civil mass incarceration system with a clear goal—the full and immediate abolition of immigration detention.</p>\n\nIf you need an accommodation to participate in this event, please contact the event sponsor or the Texas Law Special Events Office at specialevents@law.utexas.edu no later than seven business days prior to the event.
X-ALT-DESC;FMTTYPE=text/html:<p>Through an expansive network of federal and local policing, the carceral state constantly entraps immigrants, especially immigrants of color. For example, in the past year alone, over 15,000 immigrants in Texas have been detained by the Department of Homeland Security. This panel of legal practitioners and community organizers will discuss the day-to-day havoc the system wreaks in communities of color, especially in the context of COVID-19. Their work within the intersection of criminal law and immigration addresses the xenophobic underpinnings of this civil mass incarceration system with a clear goal—the full and immediate abolition of immigration detention.</p><p>If you need an accommodation to participate in this event, please contact the event
                                          event sponsor or the Texas Law Special Events Office at <a href="mailto:specialevents@law.utexas.edu">specialevents@law.utexas.edu</a> no later than seven business days prior to the event.</p>


URL:http://law.utexas.edu/calendar/2021/02/27/59487/
CLASS:PUBLIC
STATUS:CONFIRMED

END:VEVENT
END:VCALENDAR