BEGIN:VCALENDAR
VERSION:2.0
PRODID:-//UNIVERSITY OF TEXAS SCHOOL OF LAW//NONSGML Events Calendar v1.0//EN
X-WR-TIMEZONE:America/Chicago
BEGIN:VTIMEZONE
TZID:US/Central
X-LIC-LOCATION:America/Chicago
BEGIN:DAYLIGHT
TZOFFSETFROM:-0600
TZOFFSETTO:-0500
TZNAME:CDT
DTSTART:19700308T020000
RRULE:FREQ=YEARLY;BYMONTH=3;BYDAY=2SU
END:DAYLIGHT
BEGIN:STANDARD
TZOFFSETFROM:-0500
TZOFFSETTO:-0600
TZNAME:CST
DTSTART:19701101T020000
RRULE:FREQ=YEARLY;BYMONTH=11;BYDAY=1SU
END:STANDARD
END:VTIMEZONE
BEGIN:VEVENT
DTSTART;TZID=US/Central:20210301T180000
DTEND;VALUE=DATE-TIME;TZID=US/Central:20210301T191500

DTSTAMP:20260419T132200Z
CREATED:20210215T171700Z
LAST-MODIFIED:20210224T152500Z
UID:20210301T180000-59705@law.utexas.edu
SUMMARY:Texas Law Democrats - Drawing the Lines
DESCRIPTION:<p>Experts on the redistricting process join TLD to discuss the process of drawing political boundaries and what's at stake in the process as the Texas Legislature draws new political maps later this year. </p>
  <p>We will be joined by experts with experience in litigating and legislating redistricting battles:</p>
  <p>Mimi Marziani - President, Texas Civil Rights Project
  Jackie Uresti - President, Mexican American Legislative Caucus
  Chad Dunn - General Counsel, Texas Democratic Party </p>
  <p>Join Zoom Meeting
  <a href="https://utexas.zoom.us/j/94561571555?pwd=dlJkcnMwTDRDSk1yS1luZjRQZkVBZz09">https://utexas.zoom.us/j/94561571555?pwd=dlJkcnMwTDRDSk1yS1luZjRQZkVBZz09</a></p>
  <p>Meeting ID: 945 6157 1555
  Passcode: 503941</p>\n\nIf you need an accommodation to participate in this event, please contact the event sponsor or the Texas Law Special Events Office at specialevents@law.utexas.edu no later than seven business days prior to the event.
X-ALT-DESC;FMTTYPE=text/html:<p>Experts on the redistricting process join TLD to discuss the process of drawing political boundaries and what's at stake in the process as the Texas Legislature draws new political maps later this year. </p>
  <p>We will be joined by experts with experience in litigating and legislating redistricting battles:</p>
  <p>Mimi Marziani - President, Texas Civil Rights Project
  Jackie Uresti - President, Mexican American Legislative Caucus
  Chad Dunn - General Counsel, Texas Democratic Party </p>
  <p>Join Zoom Meeting
  <a href="https://utexas.zoom.us/j/94561571555?pwd=dlJkcnMwTDRDSk1yS1luZjRQZkVBZz09">https://utexas.zoom.us/j/94561571555?pwd=dlJkcnMwTDRDSk1yS1luZjRQZkVBZz09</a></p>
  <p>Meeting ID: 945 6157 1555
  Passcode: 503941</p><p>If you need an accommodation to participate in this event, please contact the event
                                          event sponsor or the Texas Law Special Events Office at <a href="mailto:specialevents@law.utexas.edu">specialevents@law.utexas.edu</a> no later than seven business days prior to the event.</p>


URL:http://law.utexas.edu/calendar/2021/03/01/59705/
CLASS:PUBLIC
STATUS:CONFIRMED
COMMENT:htps://www.facebook.com/TexasLawDemocrats
END:VEVENT
END:VCALENDAR