BEGIN:VCALENDAR
VERSION:2.0
PRODID:-//UNIVERSITY OF TEXAS SCHOOL OF LAW//NONSGML Events Calendar v1.0//EN
X-WR-TIMEZONE:America/Chicago
BEGIN:VTIMEZONE
TZID:US/Central
X-LIC-LOCATION:America/Chicago
BEGIN:DAYLIGHT
TZOFFSETFROM:-0600
TZOFFSETTO:-0500
TZNAME:CDT
DTSTART:19700308T020000
RRULE:FREQ=YEARLY;BYMONTH=3;BYDAY=2SU
END:DAYLIGHT
BEGIN:STANDARD
TZOFFSETFROM:-0500
TZOFFSETTO:-0600
TZNAME:CST
DTSTART:19701101T020000
RRULE:FREQ=YEARLY;BYMONTH=11;BYDAY=1SU
END:STANDARD
END:VTIMEZONE
BEGIN:VEVENT
DTSTART;TZID=US/Central:20210304T183000
DTEND;VALUE=DATE-TIME;TZID=US/Central:20210304T193000

DTSTAMP:20260419T163300Z
CREATED:20210228T171600Z
LAST-MODIFIED:20210228T171600Z
UID:20210304T183000-59865@law.utexas.edu
SUMMARY:14th Amendment Originalism &amp; Abortion
DESCRIPTION:<p>Please join the Texas Federalist Society as we host Josh Craddock, Affiliated Scholar with the James Wilson Institute for Natural Rights and the American Founding, and Edward Whelan, President of the Ethics and Public Policy Center, as they discuss whether preborn human beings may be considered "persons" within the original meaning of the Fourteenth Amendment, as well as the implications of such views.</p>
  <p>The first 50 Texas Law students to register will receive a $10 redemption code for DoorDash to enjoy a meal during the event.</p>
  <p>Registration Link: <a href="https://forms.gle/2fo7ScTG5S9Dhs9RA">https://forms.gle/2fo7ScTG5S9Dhs9RA</a></p>
  <p>Note: Registration is not required to attend any of the Texas Federalist Society's virtual events this semester; it is only required for each event if you would like to make use of the DoorDash discount.</p>\n\nIf you need an accommodation to participate in this event, please contact the event sponsor or the Texas Law Special Events Office at specialevents@law.utexas.edu no later than seven business days prior to the event.
X-ALT-DESC;FMTTYPE=text/html:<p>Please join the Texas Federalist Society as we host Josh Craddock, Affiliated Scholar with the James Wilson Institute for Natural Rights and the American Founding, and Edward Whelan, President of the Ethics and Public Policy Center, as they discuss whether preborn human beings may be considered "persons" within the original meaning of the Fourteenth Amendment, as well as the implications of such views.</p>
  <p>The first 50 Texas Law students to register will receive a $10 redemption code for DoorDash to enjoy a meal during the event.</p>
  <p>Registration Link: <a href="https://forms.gle/2fo7ScTG5S9Dhs9RA">https://forms.gle/2fo7ScTG5S9Dhs9RA</a></p>
  <p>Note: Registration is not required to attend any of the Texas Federalist Society's virtual events this semester; it is only required for each event if you would like to make use of the DoorDash discount.</p><p>If you need an accommodation to participate in this event, please contact the event
                                          event sponsor or the Texas Law Special Events Office at <a href="mailto:specialevents@law.utexas.edu">specialevents@law.utexas.edu</a> no later than seven business days prior to the event.</p>
CATEGORIES:Panel Discussion / Speaker Series

URL:http://law.utexas.edu/calendar/2021/03/04/59865/
CLASS:PUBLIC
STATUS:CONFIRMED
COMMENT:Instagram: @texasfederalistsociety, Twitter: @UTLawFedSoc, FB: Texas Federalist Society
END:VEVENT
END:VCALENDAR