BEGIN:VCALENDAR
VERSION:2.0
PRODID:-//UNIVERSITY OF TEXAS SCHOOL OF LAW//NONSGML Events Calendar v1.0//EN
X-WR-TIMEZONE:America/Chicago
BEGIN:VTIMEZONE
TZID:US/Central
X-LIC-LOCATION:America/Chicago
BEGIN:DAYLIGHT
TZOFFSETFROM:-0600
TZOFFSETTO:-0500
TZNAME:CDT
DTSTART:19700308T020000
RRULE:FREQ=YEARLY;BYMONTH=3;BYDAY=2SU
END:DAYLIGHT
BEGIN:STANDARD
TZOFFSETFROM:-0500
TZOFFSETTO:-0600
TZNAME:CST
DTSTART:19701101T020000
RRULE:FREQ=YEARLY;BYMONTH=11;BYDAY=1SU
END:STANDARD
END:VTIMEZONE
BEGIN:VEVENT
DTSTART;TZID=US/Central:20210305T120000
DTEND;VALUE=DATE-TIME;TZID=US/Central:20210305T131500

DTSTAMP:20260419T181300Z
CREATED:20201201T224400Z
LAST-MODIFIED:20210211T193400Z
UID:20210305T120000-58545@law.utexas.edu
SUMMARY:TELJ Symposium
DESCRIPTION:<p>Ethical Issues for Environmental Lawyers: what to do when your client refuses to do the right thing. Join UT professor Jeff Civins for this event, eligible for CLE ethics credit. Register at <a href="https://www.telj.org/symposium.html">https://www.telj.org/symposium.html</a></p>\n\nIf you need an accommodation to participate in this event, please contact the event sponsor or the Texas Law Special Events Office at specialevents@law.utexas.edu no later than seven business days prior to the event.
X-ALT-DESC;FMTTYPE=text/html:<p>Ethical Issues for Environmental Lawyers: what to do when your client refuses to do the right thing. Join UT professor Jeff Civins for this event, eligible for CLE ethics credit. Register at <a href="https://www.telj.org/symposium.html">https://www.telj.org/symposium.html</a></p><p>If you need an accommodation to participate in this event, please contact the event
                                          event sponsor or the Texas Law Special Events Office at <a href="mailto:specialevents@law.utexas.edu">specialevents@law.utexas.edu</a> no later than seven business days prior to the event.</p>


URL:http://law.utexas.edu/calendar/2021/03/05/58545/
CLASS:PUBLIC
STATUS:CONFIRMED

END:VEVENT
END:VCALENDAR