BEGIN:VCALENDAR
VERSION:2.0
PRODID:-//UNIVERSITY OF TEXAS SCHOOL OF LAW//NONSGML Events Calendar v1.0//EN
X-WR-TIMEZONE:America/Chicago
BEGIN:VTIMEZONE
TZID:US/Central
X-LIC-LOCATION:America/Chicago
BEGIN:DAYLIGHT
TZOFFSETFROM:-0600
TZOFFSETTO:-0500
TZNAME:CDT
DTSTART:19700308T020000
RRULE:FREQ=YEARLY;BYMONTH=3;BYDAY=2SU
END:DAYLIGHT
BEGIN:STANDARD
TZOFFSETFROM:-0500
TZOFFSETTO:-0600
TZNAME:CST
DTSTART:19701101T020000
RRULE:FREQ=YEARLY;BYMONTH=11;BYDAY=1SU
END:STANDARD
END:VTIMEZONE
BEGIN:VEVENT
DTSTART;TZID=US/Central:20210329T160000
DTEND;VALUE=DATE-TIME;TZID=US/Central:20210329T170000

DTSTAMP:20260419T210300Z
CREATED:20210305T234900Z
LAST-MODIFIED:20210305T235000Z
UID:20210329T160000-59965@law.utexas.edu
SUMMARY:JOLTT Free Speech and Social Media Panel
DESCRIPTION:<p>Do you value freedom of speech? Do you use social media? If your answer to either of these questions is yes, join us for our JOLTT Free Speech and Social Media panel discussion! This panel will feature Dean Robert Chesney and Professors Oren Bracha and Amy Kristin Sanders discussing current free speech and social media issues. </p>
  <p>The event will run for about an hour from 4-5PM on Monday, March 29th via zoom. It will feature a number of topics in the 1st Amendment/social media space with plenty of opportunity for student Q&amp;A. Zoom details follow below. We hope to see you there! </p>
  <p><a href="https://utexas.zoom.us/j/91844718306">https://utexas.zoom.us/j/91844718306</a></p>
  <p>Meeting ID: 918 4471 8306</p>\n\nIf you need an accommodation to participate in this event, please contact the event sponsor or the Texas Law Special Events Office at specialevents@law.utexas.edu no later than seven business days prior to the event.
X-ALT-DESC;FMTTYPE=text/html:<p>Do you value freedom of speech? Do you use social media? If your answer to either of these questions is yes, join us for our JOLTT Free Speech and Social Media panel discussion! This panel will feature Dean Robert Chesney and Professors Oren Bracha and Amy Kristin Sanders discussing current free speech and social media issues. </p>
  <p>The event will run for about an hour from 4-5PM on Monday, March 29th via zoom. It will feature a number of topics in the 1st Amendment/social media space with plenty of opportunity for student Q&amp;A. Zoom details follow below. We hope to see you there! </p>
  <p><a href="https://utexas.zoom.us/j/91844718306">https://utexas.zoom.us/j/91844718306</a></p>
  <p>Meeting ID: 918 4471 8306</p><p>If you need an accommodation to participate in this event, please contact the event
                                          event sponsor or the Texas Law Special Events Office at <a href="mailto:specialevents@law.utexas.edu">specialevents@law.utexas.edu</a> no later than seven business days prior to the event.</p>
CATEGORIES:Panel Discussion / Speaker Series

URL:http://law.utexas.edu/calendar/2021/03/29/59965/
CLASS:PUBLIC
STATUS:CONFIRMED

END:VEVENT
END:VCALENDAR