BEGIN:VCALENDAR
VERSION:2.0
PRODID:-//UNIVERSITY OF TEXAS SCHOOL OF LAW//NONSGML Events Calendar v1.0//EN
X-WR-TIMEZONE:America/Chicago
BEGIN:VTIMEZONE
TZID:US/Central
X-LIC-LOCATION:America/Chicago
BEGIN:DAYLIGHT
TZOFFSETFROM:-0600
TZOFFSETTO:-0500
TZNAME:CDT
DTSTART:19700308T020000
RRULE:FREQ=YEARLY;BYMONTH=3;BYDAY=2SU
END:DAYLIGHT
BEGIN:STANDARD
TZOFFSETFROM:-0500
TZOFFSETTO:-0600
TZNAME:CST
DTSTART:19701101T020000
RRULE:FREQ=YEARLY;BYMONTH=11;BYDAY=1SU
END:STANDARD
END:VTIMEZONE
BEGIN:VEVENT
DTSTART;TZID=US/Central:20210406T121500
DTEND;VALUE=DATE-TIME;TZID=US/Central:20210406T131500

DTSTAMP:20260419T154600Z
CREATED:20210308T203400Z
LAST-MODIFIED:20210308T203400Z
UID:20210406T121500-59986@law.utexas.edu
SUMMARY:Clinic and Internship Application Q&amp;A
DESCRIPTION:<p>Got a question about your clinic or internship application? Did you miss the Virtual Info Session?</p>
  <p>Join Prof. Eden Harrington and Sonja Hartley, Senior Program Coordinator, for open office hours. Drop into the zoom session anytime during the hour. </p>
  <p>Clinic applications for Fall 2021 are due Friday, April 9 at noon. Internship applications for summer 2021 and fall are processed on a rolling basis. </p>\n\nIf you need an accommodation to participate in this event, please contact the event sponsor or the Texas Law Special Events Office at specialevents@law.utexas.edu no later than seven business days prior to the event.
X-ALT-DESC;FMTTYPE=text/html:<p>Got a question about your clinic or internship application? Did you miss the Virtual Info Session?</p>
  <p>Join Prof. Eden Harrington and Sonja Hartley, Senior Program Coordinator, for open office hours. Drop into the zoom session anytime during the hour. </p>
  <p>Clinic applications for Fall 2021 are due Friday, April 9 at noon. Internship applications for summer 2021 and fall are processed on a rolling basis. </p><p>If you need an accommodation to participate in this event, please contact the event
                                          event sponsor or the Texas Law Special Events Office at <a href="mailto:specialevents@law.utexas.edu">specialevents@law.utexas.edu</a> no later than seven business days prior to the event.</p>


URL:http://law.utexas.edu/calendar/2021/04/06/59986/
CLASS:PUBLIC
STATUS:CONFIRMED

END:VEVENT
END:VCALENDAR