BEGIN:VCALENDAR
VERSION:2.0
PRODID:-//UNIVERSITY OF TEXAS SCHOOL OF LAW//NONSGML Events Calendar v1.0//EN
X-WR-TIMEZONE:America/Chicago
BEGIN:VTIMEZONE
TZID:US/Central
X-LIC-LOCATION:America/Chicago
BEGIN:DAYLIGHT
TZOFFSETFROM:-0600
TZOFFSETTO:-0500
TZNAME:CDT
DTSTART:19700308T020000
RRULE:FREQ=YEARLY;BYMONTH=3;BYDAY=2SU
END:DAYLIGHT
BEGIN:STANDARD
TZOFFSETFROM:-0500
TZOFFSETTO:-0600
TZNAME:CST
DTSTART:19701101T020000
RRULE:FREQ=YEARLY;BYMONTH=11;BYDAY=1SU
END:STANDARD
END:VTIMEZONE
BEGIN:VEVENT
DTSTART;TZID=US/Central:20210407T123000
DTEND;VALUE=DATE-TIME;TZID=US/Central:20210407T140000

DTSTAMP:20260419T161100Z
CREATED:20220330T155900Z
LAST-MODIFIED:20220401T203900Z
UID:20210407T123000-67825@law.utexas.edu
SUMMARY:Immigration Is a Racial Justice Issue
DESCRIPTION:<p>On April 7th, the Strauss Center for International Security and Law will host Nana Gyamfi, Executive Director for Black Alliance for Just Immigration. The event will be held at the University of Texas Law School in the Eidman Courtroom at 12:30pm. This is part of our Brumley Speaker Series.</p>
  <p>Register for this event: <a href="https://www.eventbrite.com/e/immigration-is-a-racial-justice-issue-tickets-309986346507">https://www.eventbrite.com/e/immigration-is-a-racial-justice-issue-tickets-309986346507</a></p>
  <p>BIOGRAPHY</p>
  <p>Nana Gyamfi is the Executive Director of Black Alliance for Just Immigration (BAJI), the largest Black-led social justice organization representing the nearly 10 million Black immigrants, refugees, and families living in the U.S. A Movement attorney for the past 25 years, Nana is co-founder of Justice Warriors 4 Black Lives and Human Rights Advocacy, both dedicated to fighting for human rights and Black liberation. She is the current President of the National Conference of Black Lawyers, and a member of the Movement for Black Lives Policy Table. Nana is a former professor in the Pan African Studies Department at California State University Los Angeles, and has long been a sought after voice for legal and political insight into issues affecting Black communities. She has appeared in documentaries and other media, including Tales of the Grim Sleeper and Democracy Now! With Amy Goodman.</p>\n\nIf you need an accommodation to participate in this event, please contact the event sponsor or the Texas Law Special Events Office at specialevents@law.utexas.edu no later than seven business days prior to the event.
X-ALT-DESC;FMTTYPE=text/html:<p>On April 7th, the Strauss Center for International Security and Law will host Nana Gyamfi, Executive Director for Black Alliance for Just Immigration. The event will be held at the University of Texas Law School in the Eidman Courtroom at 12:30pm. This is part of our Brumley Speaker Series.</p>
  <p>Register for this event: <a href="https://www.eventbrite.com/e/immigration-is-a-racial-justice-issue-tickets-309986346507">https://www.eventbrite.com/e/immigration-is-a-racial-justice-issue-tickets-309986346507</a></p>
  <p>BIOGRAPHY</p>
  <p>Nana Gyamfi is the Executive Director of Black Alliance for Just Immigration (BAJI), the largest Black-led social justice organization representing the nearly 10 million Black immigrants, refugees, and families living in the U.S. A Movement attorney for the past 25 years, Nana is co-founder of Justice Warriors 4 Black Lives and Human Rights Advocacy, both dedicated to fighting for human rights and Black liberation. She is the current President of the National Conference of Black Lawyers, and a member of the Movement for Black Lives Policy Table. Nana is a former professor in the Pan African Studies Department at California State University Los Angeles, and has long been a sought after voice for legal and political insight into issues affecting Black communities. She has appeared in documentaries and other media, including Tales of the Grim Sleeper and Democracy Now! With Amy Goodman.</p><p>If you need an accommodation to participate in this event, please contact the event
                                          event sponsor or the Texas Law Special Events Office at <a href="mailto:specialevents@law.utexas.edu">specialevents@law.utexas.edu</a> no later than seven business days prior to the event.</p>
CATEGORIES:Panel Discussion / Speaker Series
LOCATION:CCJ 2.306 - Eidman Courtroom
URL:http://law.utexas.edu/calendar/2021/04/07/67825/
CLASS:PUBLIC
STATUS:CONFIRMED
COMMENT:https://www.eventbrite.com/e/immigration-is-a-racial-justice-issue-tickets-309986346507
END:VEVENT
END:VCALENDAR