BEGIN:VCALENDAR
VERSION:2.0
PRODID:-//UNIVERSITY OF TEXAS SCHOOL OF LAW//NONSGML Events Calendar v1.0//EN
X-WR-TIMEZONE:America/Chicago
BEGIN:VTIMEZONE
TZID:US/Central
X-LIC-LOCATION:America/Chicago
BEGIN:DAYLIGHT
TZOFFSETFROM:-0600
TZOFFSETTO:-0500
TZNAME:CDT
DTSTART:19700308T020000
RRULE:FREQ=YEARLY;BYMONTH=3;BYDAY=2SU
END:DAYLIGHT
BEGIN:STANDARD
TZOFFSETFROM:-0500
TZOFFSETTO:-0600
TZNAME:CST
DTSTART:19701101T020000
RRULE:FREQ=YEARLY;BYMONTH=11;BYDAY=1SU
END:STANDARD
END:VTIMEZONE
BEGIN:VEVENT
DTSTART;TZID=US/Central:20210416T110000


DTSTAMP:20260419T150000Z
CREATED:20210414T132500Z
LAST-MODIFIED:20210414T135200Z
UID:20210416T110000-60565@law.utexas.edu
SUMMARY:Alumni Reunion – State of the Law School
DESCRIPTION:<p>Join Dean Ward Farnsworth for an update on your alma mater.</p>
  <p><a href="https://law.utexas.edu/reunion/registration/">Registration required</a> to watch on YouTube Live</p>\n\nIf you need an accommodation to participate in this event, please contact the event sponsor or the Texas Law Special Events Office at specialevents@law.utexas.edu no later than seven business days prior to the event.
X-ALT-DESC;FMTTYPE=text/html:<p>Join Dean Ward Farnsworth for an update on your alma mater.</p>
  <p><a href="https://law.utexas.edu/reunion/registration/">Registration required</a> to watch on YouTube Live</p><p>If you need an accommodation to participate in this event, please contact the event
                                          event sponsor or the Texas Law Special Events Office at <a href="mailto:specialevents@law.utexas.edu">specialevents@law.utexas.edu</a> no later than seven business days prior to the event.</p>
CATEGORIES:Reunion

URL:http://law.utexas.edu/calendar/2021/04/16/60565/
CLASS:PUBLIC
STATUS:CONFIRMED
COMMENT:For questions, email events@law.utexas.edu.
END:VEVENT
END:VCALENDAR