BEGIN:VCALENDAR
VERSION:2.0
PRODID:-//UNIVERSITY OF TEXAS SCHOOL OF LAW//NONSGML Events Calendar v1.0//EN
X-WR-TIMEZONE:America/Chicago
BEGIN:VTIMEZONE
TZID:US/Central
X-LIC-LOCATION:America/Chicago
BEGIN:DAYLIGHT
TZOFFSETFROM:-0600
TZOFFSETTO:-0500
TZNAME:CDT
DTSTART:19700308T020000
RRULE:FREQ=YEARLY;BYMONTH=3;BYDAY=2SU
END:DAYLIGHT
BEGIN:STANDARD
TZOFFSETFROM:-0500
TZOFFSETTO:-0600
TZNAME:CST
DTSTART:19701101T020000
RRULE:FREQ=YEARLY;BYMONTH=11;BYDAY=1SU
END:STANDARD
END:VTIMEZONE
BEGIN:VEVENT
DTSTART;TZID=US/Central:20210422T180000
DTEND;VALUE=DATE-TIME;TZID=US/Central:20210422T193000

DTSTAMP:20260419T122200Z
CREATED:20210329T145700Z
LAST-MODIFIED:20210329T145700Z
UID:20210422T180000-60345@law.utexas.edu
SUMMARY:BOA Banquet and Awards Ceremony
DESCRIPTION:<p>Join the Board of Advocates and the Advocacy Program for our virtual 2021 Banquet and Awards Ceremony! We will recognize intramural and interscholastic competitors and judges, present various advocacy scholarships, present the 2021-2022 BOA Board, and more! Click the following Zoom link to join at 6:00 PM: <a href="https://utexas.zoom.us/j/97865890075.">https://utexas.zoom.us/j/97865890075.</a> </p>\n\nIf you need an accommodation to participate in this event, please contact the event sponsor or the Texas Law Special Events Office at specialevents@law.utexas.edu no later than seven business days prior to the event.
X-ALT-DESC;FMTTYPE=text/html:<p>Join the Board of Advocates and the Advocacy Program for our virtual 2021 Banquet and Awards Ceremony! We will recognize intramural and interscholastic competitors and judges, present various advocacy scholarships, present the 2021-2022 BOA Board, and more! Click the following Zoom link to join at 6:00 PM: <a href="https://utexas.zoom.us/j/97865890075.">https://utexas.zoom.us/j/97865890075.</a> </p><p>If you need an accommodation to participate in this event, please contact the event
                                          event sponsor or the Texas Law Special Events Office at <a href="mailto:specialevents@law.utexas.edu">specialevents@law.utexas.edu</a> no later than seven business days prior to the event.</p>
CATEGORIES:Reception

URL:http://law.utexas.edu/calendar/2021/04/22/60345/
CLASS:PUBLIC
STATUS:CONFIRMED

END:VEVENT
END:VCALENDAR