BEGIN:VCALENDAR
VERSION:2.0
PRODID:-//UNIVERSITY OF TEXAS SCHOOL OF LAW//NONSGML Events Calendar v1.0//EN
X-WR-TIMEZONE:America/Chicago
BEGIN:VTIMEZONE
TZID:US/Central
X-LIC-LOCATION:America/Chicago
BEGIN:DAYLIGHT
TZOFFSETFROM:-0600
TZOFFSETTO:-0500
TZNAME:CDT
DTSTART:19700308T020000
RRULE:FREQ=YEARLY;BYMONTH=3;BYDAY=2SU
END:DAYLIGHT
BEGIN:STANDARD
TZOFFSETFROM:-0500
TZOFFSETTO:-0600
TZNAME:CST
DTSTART:19701101T020000
RRULE:FREQ=YEARLY;BYMONTH=11;BYDAY=1SU
END:STANDARD
END:VTIMEZONE
BEGIN:VEVENT
DTSTART;TZID=US/Central:20210527T130000
DTEND;VALUE=DATE-TIME;TZID=US/Central:20210527T143000

DTSTAMP:20260419T154300Z
CREATED:20210526T202900Z
LAST-MODIFIED:20210526T203000Z
UID:20210527T130000-60805@law.utexas.edu
SUMMARY:Beyond Inequality: Case Studies
DESCRIPTION:<p>The Rapoport Center and the Harvard Institute for Global Law and Policy have gathered a team of international and interdisciplinary scholars over the past year for a book project rethinking the future of work through methods of racial capitalism, world-systems, and critiques of distribution. This panel highlights case studies from the book about precarity in sites ranging from the Austin construction and Vermont dairy industries in the U.S. to Jordanian apparel factories and Colombian palm plantations.</p>
  <p>Helena Alviar García
  Professor, Sciences Po Law School
  &amp;
  Jorge Gonzalez
  Professor, Universidad de los Andes Law School, Colombia</p>
  <p>Jennifer Bair
  Professor of Sociology &amp; Department Chair, University of Virginia</p>
  <p>Karen Engle
  Minerva House Drysdale Regents Chair in Law &amp; Founder and Co-Director, Bernard and Audre Rapoport Center for Human Rights and Justice, University of Texas at Austin School of Law
  &amp;
  Samuel Tabory
  PhD Student, Graduate School of Design, Harvard University</p>
  <p>Jennifer Gordon
  Professor of Law, Fordham University School of Law</p>
  <p>Vanja Hamzić
  Reader in Law, History and Anthropology and an Associate Director of Research, SOAS University of London</p>
  <p>Neville Hoad
  Associate Professor of English &amp; Co-Director, Bernard and Audre Rapoport Center for Human Rights and Justice, University of Texas at Austin</p>
  <p>Kerry Rittich
  Professor of Law, Women and Gender Studies, and Public Policy and Governance, University of Toronto</p>
  <p>Moderated by David Kennedy
  Manley O. Hudson Professor of Law &amp; Director of the Institute for Global Law and Policy, Harvard University</p>
  <p>Relevant Research Clusters: AI and Technology, Care Work, Essential Work, Work Across the Global South</p>
  <p>Join via Zoom: <a href="https://utexas.zoom.us/j/98600632307">https://utexas.zoom.us/j/98600632307</a></p>\n\nIf you need an accommodation to participate in this event, please contact the event sponsor or the Texas Law Special Events Office at specialevents@law.utexas.edu no later than seven business days prior to the event.
X-ALT-DESC;FMTTYPE=text/html:<p>The Rapoport Center and the Harvard Institute for Global Law and Policy have gathered a team of international and interdisciplinary scholars over the past year for a book project rethinking the future of work through methods of racial capitalism, world-systems, and critiques of distribution. This panel highlights case studies from the book about precarity in sites ranging from the Austin construction and Vermont dairy industries in the U.S. to Jordanian apparel factories and Colombian palm plantations.</p>
  <p>Helena Alviar García
  Professor, Sciences Po Law School
  &amp;
  Jorge Gonzalez
  Professor, Universidad de los Andes Law School, Colombia</p>
  <p>Jennifer Bair
  Professor of Sociology &amp; Department Chair, University of Virginia</p>
  <p>Karen Engle
  Minerva House Drysdale Regents Chair in Law &amp; Founder and Co-Director, Bernard and Audre Rapoport Center for Human Rights and Justice, University of Texas at Austin School of Law
  &amp;
  Samuel Tabory
  PhD Student, Graduate School of Design, Harvard University</p>
  <p>Jennifer Gordon
  Professor of Law, Fordham University School of Law</p>
  <p>Vanja Hamzić
  Reader in Law, History and Anthropology and an Associate Director of Research, SOAS University of London</p>
  <p>Neville Hoad
  Associate Professor of English &amp; Co-Director, Bernard and Audre Rapoport Center for Human Rights and Justice, University of Texas at Austin</p>
  <p>Kerry Rittich
  Professor of Law, Women and Gender Studies, and Public Policy and Governance, University of Toronto</p>
  <p>Moderated by David Kennedy
  Manley O. Hudson Professor of Law &amp; Director of the Institute for Global Law and Policy, Harvard University</p>
  <p>Relevant Research Clusters: AI and Technology, Care Work, Essential Work, Work Across the Global South</p>
  <p>Join via Zoom: <a href="https://utexas.zoom.us/j/98600632307">https://utexas.zoom.us/j/98600632307</a></p><p>If you need an accommodation to participate in this event, please contact the event
                                          event sponsor or the Texas Law Special Events Office at <a href="mailto:specialevents@law.utexas.edu">specialevents@law.utexas.edu</a> no later than seven business days prior to the event.</p>
CATEGORIES:Panel Discussion / Speaker Series

URL:http://law.utexas.edu/calendar/2021/05/27/60805/
CLASS:PUBLIC
STATUS:CONFIRMED
COMMENT:Sarah Eliason at seliason@law.utexas.edu
END:VEVENT
END:VCALENDAR