BEGIN:VCALENDAR
VERSION:2.0
PRODID:-//UNIVERSITY OF TEXAS SCHOOL OF LAW//NONSGML Events Calendar v1.0//EN
X-WR-TIMEZONE:America/Chicago
BEGIN:VTIMEZONE
TZID:US/Central
X-LIC-LOCATION:America/Chicago
BEGIN:DAYLIGHT
TZOFFSETFROM:-0600
TZOFFSETTO:-0500
TZNAME:CDT
DTSTART:19700308T020000
RRULE:FREQ=YEARLY;BYMONTH=3;BYDAY=2SU
END:DAYLIGHT
BEGIN:STANDARD
TZOFFSETFROM:-0500
TZOFFSETTO:-0600
TZNAME:CST
DTSTART:19701101T020000
RRULE:FREQ=YEARLY;BYMONTH=11;BYDAY=1SU
END:STANDARD
END:VTIMEZONE
BEGIN:VEVENT
DTSTART;TZID=US/Central:20210528T130000
DTEND;VALUE=DATE-TIME;TZID=US/Central:20210528T140000

DTSTAMP:20260419T181300Z
CREATED:20210526T204100Z
LAST-MODIFIED:20210526T204100Z
UID:20210528T130000-60825@law.utexas.edu
SUMMARY:Capitalism on Edge: A Conversation
DESCRIPTION:<p>Albena Azmanova’s latest book, Capitalism on Edge, provocatively insists: “Capitalism is not on its deathbed, utopia is not in our future, and revolution is not in the cards. And yet, the time is ripe for radical progressive change.” In conversation with Jamie Galbraith, Azmanova discusses these claims and more – from the rise of global precarity to the future of capitalism.</p>
  <p>Albena Azmanova
  Reader (Associate Professor), Brussels School of International Studies, University of Kent</p>
  <p>&amp;</p>
  <p>James Galbraith
  Lloyd M. Bentsen Jr. Chair in Government and Business Relations &amp; Professor of Government, University of Texas at Austin</p>
  <p>Relevant Research Clusters: AI and Technology, Care Work, Essential Work, Work Across the Global South</p>
  <p>Join via Zoom: <a href="https://utexas.zoom.us/j/95760614356">https://utexas.zoom.us/j/95760614356</a> </p>\n\nIf you need an accommodation to participate in this event, please contact the event sponsor or the Texas Law Special Events Office at specialevents@law.utexas.edu no later than seven business days prior to the event.
X-ALT-DESC;FMTTYPE=text/html:<p>Albena Azmanova’s latest book, Capitalism on Edge, provocatively insists: “Capitalism is not on its deathbed, utopia is not in our future, and revolution is not in the cards. And yet, the time is ripe for radical progressive change.” In conversation with Jamie Galbraith, Azmanova discusses these claims and more – from the rise of global precarity to the future of capitalism.</p>
  <p>Albena Azmanova
  Reader (Associate Professor), Brussels School of International Studies, University of Kent</p>
  <p>&amp;</p>
  <p>James Galbraith
  Lloyd M. Bentsen Jr. Chair in Government and Business Relations &amp; Professor of Government, University of Texas at Austin</p>
  <p>Relevant Research Clusters: AI and Technology, Care Work, Essential Work, Work Across the Global South</p>
  <p>Join via Zoom: <a href="https://utexas.zoom.us/j/95760614356">https://utexas.zoom.us/j/95760614356</a> </p><p>If you need an accommodation to participate in this event, please contact the event
                                          event sponsor or the Texas Law Special Events Office at <a href="mailto:specialevents@law.utexas.edu">specialevents@law.utexas.edu</a> no later than seven business days prior to the event.</p>
CATEGORIES:Panel Discussion / Speaker Series

URL:http://law.utexas.edu/calendar/2021/05/28/60825/
CLASS:PUBLIC
STATUS:CONFIRMED
COMMENT:Sarah Eliason at seliason@law.utexas.edu
END:VEVENT
END:VCALENDAR