BEGIN:VCALENDAR
VERSION:2.0
PRODID:-//UNIVERSITY OF TEXAS SCHOOL OF LAW//NONSGML Events Calendar v1.0//EN
X-WR-TIMEZONE:America/Chicago
BEGIN:VTIMEZONE
TZID:US/Central
X-LIC-LOCATION:America/Chicago
BEGIN:DAYLIGHT
TZOFFSETFROM:-0600
TZOFFSETTO:-0500
TZNAME:CDT
DTSTART:19700308T020000
RRULE:FREQ=YEARLY;BYMONTH=3;BYDAY=2SU
END:DAYLIGHT
BEGIN:STANDARD
TZOFFSETFROM:-0500
TZOFFSETTO:-0600
TZNAME:CST
DTSTART:19701101T020000
RRULE:FREQ=YEARLY;BYMONTH=11;BYDAY=1SU
END:STANDARD
END:VTIMEZONE
BEGIN:VEVENT
DTSTART;TZID=US/Central:20210603T130000
DTEND;VALUE=DATE-TIME;TZID=US/Central:20210603T143000

DTSTAMP:20260419T185500Z
CREATED:20210526T205300Z
LAST-MODIFIED:20210526T205300Z
UID:20210603T130000-60808@law.utexas.edu
SUMMARY:The Global Dimensions of Essential Work
DESCRIPTION:<p>A pivotal dimension of COVID-19 has been the classification of certain work(ers) as essential. In dialogue with Sara Stevano, lead author of “Essential for What? A Global Social Reproduction View on the Re-organisation of Work during the COVID-19 Pandemic,” respondents will discuss their own research on essential work.</p>
  <p>Sara Stevano
  Lecturer, Department of Economics, SOAS</p>
  <p>In discussion with:</p>
  <p>Mechele Dickerson
  Arthur L. Moller Chair in Bankruptcy Law and Practice &amp; University Distinguished Teaching Professor, University of Texas at Austin School of Law</p>
  <p>Karen Engle
  Minerva House Drysdale Regents Chair in Law and Founder and Co-Director, Bernard and Audre Rapoport Center for Human Rights and Justice, University of Texas at Austin School of Law</p>
  <p>Sam Tabory
  PhD Student, Graduate School of Design, Harvard University</p>
  <p>Sharmila Rudrappa
  Professor of Sociology &amp; Director of the South Asia Institute, University of Texas at Austin</p>
  <p>Relevant Research Clusters: Care Work, Essential Work, Work Across the Global South</p>
  <p>Join via Zoom: <a href="https://utexas.zoom.us/j/95596121534">https://utexas.zoom.us/j/95596121534</a></p>\n\nIf you need an accommodation to participate in this event, please contact the event sponsor or the Texas Law Special Events Office at specialevents@law.utexas.edu no later than seven business days prior to the event.
X-ALT-DESC;FMTTYPE=text/html:<p>A pivotal dimension of COVID-19 has been the classification of certain work(ers) as essential. In dialogue with Sara Stevano, lead author of “Essential for What? A Global Social Reproduction View on the Re-organisation of Work during the COVID-19 Pandemic,” respondents will discuss their own research on essential work.</p>
  <p>Sara Stevano
  Lecturer, Department of Economics, SOAS</p>
  <p>In discussion with:</p>
  <p>Mechele Dickerson
  Arthur L. Moller Chair in Bankruptcy Law and Practice &amp; University Distinguished Teaching Professor, University of Texas at Austin School of Law</p>
  <p>Karen Engle
  Minerva House Drysdale Regents Chair in Law and Founder and Co-Director, Bernard and Audre Rapoport Center for Human Rights and Justice, University of Texas at Austin School of Law</p>
  <p>Sam Tabory
  PhD Student, Graduate School of Design, Harvard University</p>
  <p>Sharmila Rudrappa
  Professor of Sociology &amp; Director of the South Asia Institute, University of Texas at Austin</p>
  <p>Relevant Research Clusters: Care Work, Essential Work, Work Across the Global South</p>
  <p>Join via Zoom: <a href="https://utexas.zoom.us/j/95596121534">https://utexas.zoom.us/j/95596121534</a></p><p>If you need an accommodation to participate in this event, please contact the event
                                          event sponsor or the Texas Law Special Events Office at <a href="mailto:specialevents@law.utexas.edu">specialevents@law.utexas.edu</a> no later than seven business days prior to the event.</p>
CATEGORIES:Panel Discussion / Speaker Series

URL:http://law.utexas.edu/calendar/2021/06/03/60808/
CLASS:PUBLIC
STATUS:CONFIRMED
COMMENT:Sarah Eliason at seliason@law.utexas.edu
END:VEVENT
END:VCALENDAR