BEGIN:VCALENDAR
VERSION:2.0
PRODID:-//UNIVERSITY OF TEXAS SCHOOL OF LAW//NONSGML Events Calendar v1.0//EN
X-WR-TIMEZONE:America/Chicago
BEGIN:VTIMEZONE
TZID:US/Central
X-LIC-LOCATION:America/Chicago
BEGIN:DAYLIGHT
TZOFFSETFROM:-0600
TZOFFSETTO:-0500
TZNAME:CDT
DTSTART:19700308T020000
RRULE:FREQ=YEARLY;BYMONTH=3;BYDAY=2SU
END:DAYLIGHT
BEGIN:STANDARD
TZOFFSETFROM:-0500
TZOFFSETTO:-0600
TZNAME:CST
DTSTART:19701101T020000
RRULE:FREQ=YEARLY;BYMONTH=11;BYDAY=1SU
END:STANDARD
END:VTIMEZONE
BEGIN:VEVENT
DTSTART;TZID=US/Central:20210607T123000
DTEND;VALUE=DATE-TIME;TZID=US/Central:20210607T140000

DTSTAMP:20260419T152000Z
CREATED:20210526T211800Z
LAST-MODIFIED:20210526T211800Z
UID:20210607T123000-60814@law.utexas.edu
SUMMARY:Views from South Africa
DESCRIPTION:<p>Faculty from the University of Texas and the University of Cape Town are beginning a collaboration on the drivers of the past, present, and future of work in South Africa. In this panel, leading South African economists set the stage for this project to generate much-needed responses to the many economic, legal, and political crises exacerbated by the COVID-19 pandemic.</p>
  <p>Haroon Bhorat 
  Professor of Economics &amp; Director of the Development Policy Research Unit, University of Cape Town</p>
  <p>Busi Sibeko
  Researcher, Institute for Economic Justice </p>
  <p>Neva Makgetla
  Senior Economist at Trade and Industrial Policy Strategies</p>
  <p>Imraan Valodia 
  Economist &amp; Dean of the Faculty of Commerce, Law, and Management, University of the Witwatersrand, Johannesburg</p>
  <p>Moderated by Dennis Davis
  Professor of Commercial Law, University of Cape Town</p>
  <p>Relevant Research Clusters: Essential Work, Work Across the Global South</p>
  <p>Join via Zoom: <a href="https://utexas.zoom.us/j/91970881925">https://utexas.zoom.us/j/91970881925</a></p>\n\nIf you need an accommodation to participate in this event, please contact the event sponsor or the Texas Law Special Events Office at specialevents@law.utexas.edu no later than seven business days prior to the event.
X-ALT-DESC;FMTTYPE=text/html:<p>Faculty from the University of Texas and the University of Cape Town are beginning a collaboration on the drivers of the past, present, and future of work in South Africa. In this panel, leading South African economists set the stage for this project to generate much-needed responses to the many economic, legal, and political crises exacerbated by the COVID-19 pandemic.</p>
  <p>Haroon Bhorat 
  Professor of Economics &amp; Director of the Development Policy Research Unit, University of Cape Town</p>
  <p>Busi Sibeko
  Researcher, Institute for Economic Justice </p>
  <p>Neva Makgetla
  Senior Economist at Trade and Industrial Policy Strategies</p>
  <p>Imraan Valodia 
  Economist &amp; Dean of the Faculty of Commerce, Law, and Management, University of the Witwatersrand, Johannesburg</p>
  <p>Moderated by Dennis Davis
  Professor of Commercial Law, University of Cape Town</p>
  <p>Relevant Research Clusters: Essential Work, Work Across the Global South</p>
  <p>Join via Zoom: <a href="https://utexas.zoom.us/j/91970881925">https://utexas.zoom.us/j/91970881925</a></p><p>If you need an accommodation to participate in this event, please contact the event
                                          event sponsor or the Texas Law Special Events Office at <a href="mailto:specialevents@law.utexas.edu">specialevents@law.utexas.edu</a> no later than seven business days prior to the event.</p>
CATEGORIES:Panel Discussion / Speaker Series

URL:http://law.utexas.edu/calendar/2021/06/07/60814/
CLASS:PUBLIC
STATUS:CONFIRMED
COMMENT:Sarah Eliason at seliason@law.utexas.edu
END:VEVENT
END:VCALENDAR