BEGIN:VCALENDAR
VERSION:2.0
PRODID:-//UNIVERSITY OF TEXAS SCHOOL OF LAW//NONSGML Events Calendar v1.0//EN
X-WR-TIMEZONE:America/Chicago
BEGIN:VTIMEZONE
TZID:US/Central
X-LIC-LOCATION:America/Chicago
BEGIN:DAYLIGHT
TZOFFSETFROM:-0600
TZOFFSETTO:-0500
TZNAME:CDT
DTSTART:19700308T020000
RRULE:FREQ=YEARLY;BYMONTH=3;BYDAY=2SU
END:DAYLIGHT
BEGIN:STANDARD
TZOFFSETFROM:-0500
TZOFFSETTO:-0600
TZNAME:CST
DTSTART:19701101T020000
RRULE:FREQ=YEARLY;BYMONTH=11;BYDAY=1SU
END:STANDARD
END:VTIMEZONE
BEGIN:VEVENT
DTSTART;TZID=US/Central:20210608T150000
DTEND;VALUE=DATE-TIME;TZID=US/Central:20210608T170000

DTSTAMP:20260419T193500Z
CREATED:20210526T205900Z
LAST-MODIFIED:20210526T205900Z
UID:20210608T150000-60810@law.utexas.edu
SUMMARY:Radical Care Work
DESCRIPTION:<p>Participants reflect and share their work on transforming the caring crisis that has been shaping up over the decades, and heightened by COVID-19.</p>
  <p>Ashleigh Hamilton
  Community Organizer, Communities of Color United for Racial Justice (CCU)</p>
  <p>Vrinda Marwah
  PhD Candidate in Sociology, University of Texas at Austin</p>
  <p>Deborah Parra-Medina
  Professor of Mexican American and Latino Studies &amp; Director of the Latino Research Institute, University of Austin at Texas</p>
  <p>Snehal Patel
  Assistant Professor of Internal Medicine, Dell Medical School, University of Texas at Austin</p>
  <p>Lilla Pivnick
  PhD Candidate in Sociology, University of Texas at Austin</p>
  <p>Sharmila Rudrappa
  Professor of Sociology &amp; Director of the South Asia Institute, University of Texas at Austin</p>
  <p>Gabriela Torres
  Community Organizer, Communities of Color United for Racial Justice (CCU)</p>
  <p>Yolanda White
  Executive Board Member of Texas State Employees Union (TSEU)</p>
  <p>Relevant Research Clusters: Care Work, Essential Work, Work Across the Global South</p>
  <p>Join via Zoom: <a href="https://utexas.zoom.us/j/95661245637">https://utexas.zoom.us/j/95661245637</a></p>\n\nIf you need an accommodation to participate in this event, please contact the event sponsor or the Texas Law Special Events Office at specialevents@law.utexas.edu no later than seven business days prior to the event.
X-ALT-DESC;FMTTYPE=text/html:<p>Participants reflect and share their work on transforming the caring crisis that has been shaping up over the decades, and heightened by COVID-19.</p>
  <p>Ashleigh Hamilton
  Community Organizer, Communities of Color United for Racial Justice (CCU)</p>
  <p>Vrinda Marwah
  PhD Candidate in Sociology, University of Texas at Austin</p>
  <p>Deborah Parra-Medina
  Professor of Mexican American and Latino Studies &amp; Director of the Latino Research Institute, University of Austin at Texas</p>
  <p>Snehal Patel
  Assistant Professor of Internal Medicine, Dell Medical School, University of Texas at Austin</p>
  <p>Lilla Pivnick
  PhD Candidate in Sociology, University of Texas at Austin</p>
  <p>Sharmila Rudrappa
  Professor of Sociology &amp; Director of the South Asia Institute, University of Texas at Austin</p>
  <p>Gabriela Torres
  Community Organizer, Communities of Color United for Racial Justice (CCU)</p>
  <p>Yolanda White
  Executive Board Member of Texas State Employees Union (TSEU)</p>
  <p>Relevant Research Clusters: Care Work, Essential Work, Work Across the Global South</p>
  <p>Join via Zoom: <a href="https://utexas.zoom.us/j/95661245637">https://utexas.zoom.us/j/95661245637</a></p><p>If you need an accommodation to participate in this event, please contact the event
                                          event sponsor or the Texas Law Special Events Office at <a href="mailto:specialevents@law.utexas.edu">specialevents@law.utexas.edu</a> no later than seven business days prior to the event.</p>
CATEGORIES:Panel Discussion / Speaker Series

URL:http://law.utexas.edu/calendar/2021/06/08/60810/
CLASS:PUBLIC
STATUS:CONFIRMED
COMMENT:Sarah Eliason at seliason@law.utexas.edu
END:VEVENT
END:VCALENDAR