BEGIN:VCALENDAR
VERSION:2.0
PRODID:-//UNIVERSITY OF TEXAS SCHOOL OF LAW//NONSGML Events Calendar v1.0//EN
X-WR-TIMEZONE:America/Chicago
BEGIN:VTIMEZONE
TZID:US/Central
X-LIC-LOCATION:America/Chicago
BEGIN:DAYLIGHT
TZOFFSETFROM:-0600
TZOFFSETTO:-0500
TZNAME:CDT
DTSTART:19700308T020000
RRULE:FREQ=YEARLY;BYMONTH=3;BYDAY=2SU
END:DAYLIGHT
BEGIN:STANDARD
TZOFFSETFROM:-0500
TZOFFSETTO:-0600
TZNAME:CST
DTSTART:19701101T020000
RRULE:FREQ=YEARLY;BYMONTH=11;BYDAY=1SU
END:STANDARD
END:VTIMEZONE
BEGIN:VEVENT
DTSTART;TZID=US/Central:20210609T130000
DTEND;VALUE=DATE-TIME;TZID=US/Central:20210609T143000

DTSTAMP:20260419T145500Z
CREATED:20210526T210300Z
LAST-MODIFIED:20210526T210300Z
UID:20210609T130000-60811@law.utexas.edu
SUMMARY:“Heroes” of the Global South
DESCRIPTION:<p>The movement of peoples across the globe for work, livelihoods, trade, and cultural exchange has been a constant in human history. This panel explores comparative forms of labor migration across several geographies—South Asia, the Middle East, and Southeast Asia. Panelists will think critically through the cultural designation of low-waged migrant laborers as the “heroes” of the contemporary global South and their role in the global economy as vital sources of both remittances for their families and labor for the global economy.</p>
  <p>Hae Yeon Choo
  Associate Professor of Sociology, University of Toronto, Mississauga</p>
  <p>James Gabrillo
  Assistant Professor of Musicology and Ethnomusicology, University of Texas at Austin</p>
  <p>Mishal Khan
  Postdoctoral Fellow, Bernard and Audre Rapoport Center for Human Rights and Justice, University of Texas at Austin </p>
  <p>Rui Jie Peng
  PhD Candidate in Sociology, University of Texas at Austin</p>
  <p>Andrea Wright
  Assistant Professor of Anthropology, College of William and Mary</p>
  <p>Relevant Research Clusters: Artistic Labor and the Humanities, Care Work, Essential Work, Work across the Global South</p>
  <p>Join via Zoom: <a href="https://utexas.zoom.us/j/96680750873">https://utexas.zoom.us/j/96680750873</a> </p>\n\nIf you need an accommodation to participate in this event, please contact the event sponsor or the Texas Law Special Events Office at specialevents@law.utexas.edu no later than seven business days prior to the event.
X-ALT-DESC;FMTTYPE=text/html:<p>The movement of peoples across the globe for work, livelihoods, trade, and cultural exchange has been a constant in human history. This panel explores comparative forms of labor migration across several geographies—South Asia, the Middle East, and Southeast Asia. Panelists will think critically through the cultural designation of low-waged migrant laborers as the “heroes” of the contemporary global South and their role in the global economy as vital sources of both remittances for their families and labor for the global economy.</p>
  <p>Hae Yeon Choo
  Associate Professor of Sociology, University of Toronto, Mississauga</p>
  <p>James Gabrillo
  Assistant Professor of Musicology and Ethnomusicology, University of Texas at Austin</p>
  <p>Mishal Khan
  Postdoctoral Fellow, Bernard and Audre Rapoport Center for Human Rights and Justice, University of Texas at Austin </p>
  <p>Rui Jie Peng
  PhD Candidate in Sociology, University of Texas at Austin</p>
  <p>Andrea Wright
  Assistant Professor of Anthropology, College of William and Mary</p>
  <p>Relevant Research Clusters: Artistic Labor and the Humanities, Care Work, Essential Work, Work across the Global South</p>
  <p>Join via Zoom: <a href="https://utexas.zoom.us/j/96680750873">https://utexas.zoom.us/j/96680750873</a> </p><p>If you need an accommodation to participate in this event, please contact the event
                                          event sponsor or the Texas Law Special Events Office at <a href="mailto:specialevents@law.utexas.edu">specialevents@law.utexas.edu</a> no later than seven business days prior to the event.</p>
CATEGORIES:Panel Discussion / Speaker Series

URL:http://law.utexas.edu/calendar/2021/06/09/60811/
CLASS:PUBLIC
STATUS:CONFIRMED
COMMENT:Sarah Eliason at seliason@law.utexas.edu
END:VEVENT
END:VCALENDAR