BEGIN:VCALENDAR
VERSION:2.0
PRODID:-//UNIVERSITY OF TEXAS SCHOOL OF LAW//NONSGML Events Calendar v1.0//EN
X-WR-TIMEZONE:America/Chicago
BEGIN:VTIMEZONE
TZID:US/Central
X-LIC-LOCATION:America/Chicago
BEGIN:DAYLIGHT
TZOFFSETFROM:-0600
TZOFFSETTO:-0500
TZNAME:CDT
DTSTART:19700308T020000
RRULE:FREQ=YEARLY;BYMONTH=3;BYDAY=2SU
END:DAYLIGHT
BEGIN:STANDARD
TZOFFSETFROM:-0500
TZOFFSETTO:-0600
TZNAME:CST
DTSTART:19701101T020000
RRULE:FREQ=YEARLY;BYMONTH=11;BYDAY=1SU
END:STANDARD
END:VTIMEZONE
BEGIN:VEVENT
DTSTART;TZID=US/Central:20210611T130000
DTEND;VALUE=DATE-TIME;TZID=US/Central:20210611T143000

DTSTAMP:20260419T145600Z
CREATED:20210526T210800Z
LAST-MODIFIED:20210526T210800Z
UID:20210611T130000-60829@law.utexas.edu
SUMMARY:The Future of the Arts and Humanities
DESCRIPTION:<p>Focusing on the non-economic and public benefits of the arts and humanities on campuses and in the community, we raise questions about the future of this work.</p>
  <p>Part I</p>
  <p>Charlie Lockwood
  Executive Director, Texas Folklife</p>
  <p>Rachel Magee
  President of the International Alliance of Theatrical Stage Employees (IATSE), Local 205</p>
  <p>Raasin McIntosh
  CEO and Creative Director of Raasin in the Sun</p>
  <p>J Muzacz
  Local Artist in Austin</p>
  <p>Carmen Rangel
  Visual Artist, Co-Founder of The Mosaic Workshop</p>
  <p>Part II</p>
  <p>Robin Moore
  Professor of Ethnomusicology, Butler School of Music, University of Texas at Austin</p>
  <p>Sidonie Smith
  Professor Emeritus of English Language and Literature, University of Michigan</p>
  <p>Moderated by Anne Lewis
  Associate Professor of Practice, Department of Radio-Television-Film, University of Texas at Austin</p>
  <p>Relevant Research Clusters: Artistic Labor and the Humanities, Care Work, Essential Work</p>
  <p>Join via Zoom: <a href="https://utexas.zoom.us/j/99025107230">https://utexas.zoom.us/j/99025107230</a></p>\n\nIf you need an accommodation to participate in this event, please contact the event sponsor or the Texas Law Special Events Office at specialevents@law.utexas.edu no later than seven business days prior to the event.
X-ALT-DESC;FMTTYPE=text/html:<p>Focusing on the non-economic and public benefits of the arts and humanities on campuses and in the community, we raise questions about the future of this work.</p>
  <p>Part I</p>
  <p>Charlie Lockwood
  Executive Director, Texas Folklife</p>
  <p>Rachel Magee
  President of the International Alliance of Theatrical Stage Employees (IATSE), Local 205</p>
  <p>Raasin McIntosh
  CEO and Creative Director of Raasin in the Sun</p>
  <p>J Muzacz
  Local Artist in Austin</p>
  <p>Carmen Rangel
  Visual Artist, Co-Founder of The Mosaic Workshop</p>
  <p>Part II</p>
  <p>Robin Moore
  Professor of Ethnomusicology, Butler School of Music, University of Texas at Austin</p>
  <p>Sidonie Smith
  Professor Emeritus of English Language and Literature, University of Michigan</p>
  <p>Moderated by Anne Lewis
  Associate Professor of Practice, Department of Radio-Television-Film, University of Texas at Austin</p>
  <p>Relevant Research Clusters: Artistic Labor and the Humanities, Care Work, Essential Work</p>
  <p>Join via Zoom: <a href="https://utexas.zoom.us/j/99025107230">https://utexas.zoom.us/j/99025107230</a></p><p>If you need an accommodation to participate in this event, please contact the event
                                          event sponsor or the Texas Law Special Events Office at <a href="mailto:specialevents@law.utexas.edu">specialevents@law.utexas.edu</a> no later than seven business days prior to the event.</p>
CATEGORIES:Panel Discussion / Speaker Series

URL:http://law.utexas.edu/calendar/2021/06/11/60829/
CLASS:PUBLIC
STATUS:CONFIRMED
COMMENT:Sarah Eliason at seliason@law.utexas.edu
END:VEVENT
END:VCALENDAR