BEGIN:VCALENDAR
VERSION:2.0
PRODID:-//UNIVERSITY OF TEXAS SCHOOL OF LAW//NONSGML Events Calendar v1.0//EN
X-WR-TIMEZONE:America/Chicago
BEGIN:VTIMEZONE
TZID:US/Central
X-LIC-LOCATION:America/Chicago
BEGIN:DAYLIGHT
TZOFFSETFROM:-0600
TZOFFSETTO:-0500
TZNAME:CDT
DTSTART:19700308T020000
RRULE:FREQ=YEARLY;BYMONTH=3;BYDAY=2SU
END:DAYLIGHT
BEGIN:STANDARD
TZOFFSETFROM:-0500
TZOFFSETTO:-0600
TZNAME:CST
DTSTART:19701101T020000
RRULE:FREQ=YEARLY;BYMONTH=11;BYDAY=1SU
END:STANDARD
END:VTIMEZONE
BEGIN:VEVENT
DTSTART;TZID=US/Central:20210921T180000
DTEND;VALUE=DATE-TIME;TZID=US/Central:20210921T190000

DTSTAMP:20260419T180900Z
CREATED:20210821T231600Z
LAST-MODIFIED:20210821T231600Z
UID:20210921T180000-61886@law.utexas.edu
SUMMARY:Regulatory Reform
DESCRIPTION:<p>Please join the Texas Federalist Society as we host Paul Ray, a Senior Advisor with Patomak Global Partners and the former Administrator of the Office of Management and Budget’s Office of Information and Regulatory Affairs (OIRA), as we discuss regulatory reform. </p>
  <p>The first 35 Texas Law students to register will receive a $10 redemption code for DoorDash to enjoy a meal during the event.</p>
  <p>Registration Link: <a href="https://forms.gle/7qS8skAE9Dzc4ttz5">https://forms.gle/7qS8skAE9Dzc4ttz5</a></p>
  <p>Note: Registration is not required to attend any of the Texas Federalist Society's virtual events this semester; it is only required for each event if you would like to make use of the DoorDash discount.</p>\n\nIf you need an accommodation to participate in this event, please contact the event sponsor or the Texas Law Special Events Office at specialevents@law.utexas.edu no later than seven business days prior to the event.
X-ALT-DESC;FMTTYPE=text/html:<p>Please join the Texas Federalist Society as we host Paul Ray, a Senior Advisor with Patomak Global Partners and the former Administrator of the Office of Management and Budget’s Office of Information and Regulatory Affairs (OIRA), as we discuss regulatory reform. </p>
  <p>The first 35 Texas Law students to register will receive a $10 redemption code for DoorDash to enjoy a meal during the event.</p>
  <p>Registration Link: <a href="https://forms.gle/7qS8skAE9Dzc4ttz5">https://forms.gle/7qS8skAE9Dzc4ttz5</a></p>
  <p>Note: Registration is not required to attend any of the Texas Federalist Society's virtual events this semester; it is only required for each event if you would like to make use of the DoorDash discount.</p><p>If you need an accommodation to participate in this event, please contact the event
                                          event sponsor or the Texas Law Special Events Office at <a href="mailto:specialevents@law.utexas.edu">specialevents@law.utexas.edu</a> no later than seven business days prior to the event.</p>

LOCATION:On the web
URL:http://law.utexas.edu/calendar/2021/09/21/61886/
CLASS:PUBLIC
STATUS:CONFIRMED
COMMENT:Instagram: @texasfederalistsociety, Twitter: @UTLawFedSoc, FB: Texas Federalist Society
END:VEVENT
END:VCALENDAR