BEGIN:VCALENDAR
VERSION:2.0
PRODID:-//UNIVERSITY OF TEXAS SCHOOL OF LAW//NONSGML Events Calendar v1.0//EN
X-WR-TIMEZONE:America/Chicago
BEGIN:VTIMEZONE
TZID:US/Central
X-LIC-LOCATION:America/Chicago
BEGIN:DAYLIGHT
TZOFFSETFROM:-0600
TZOFFSETTO:-0500
TZNAME:CDT
DTSTART:19700308T020000
RRULE:FREQ=YEARLY;BYMONTH=3;BYDAY=2SU
END:DAYLIGHT
BEGIN:STANDARD
TZOFFSETFROM:-0500
TZOFFSETTO:-0600
TZNAME:CST
DTSTART:19701101T020000
RRULE:FREQ=YEARLY;BYMONTH=11;BYDAY=1SU
END:STANDARD
END:VTIMEZONE
BEGIN:VEVENT
DTSTART;TZID=US/Central:20210930T170000
DTEND;VALUE=DATE-TIME;TZID=US/Central:20210930T184500

DTSTAMP:20260419T185400Z
CREATED:20210909T195900Z
LAST-MODIFIED:20210909T195900Z
UID:20210930T170000-62585@law.utexas.edu
SUMMARY:TJOGEL Virtual Roundtable
DESCRIPTION:<p>On Tuesdays and Thursdays in the Fall semester, the Texas Journal of Oil, Gas, and Energy Law hosts a law firm for a roundtable with interested TJOGEL Society members. At the roundtables, partners and associates visiting from the law firms will present on a wide variety of energy law topics for the first part of the event. Then, TJOGEL Society members will have the opportunity to ask questions and network with the visitors from the law firms.</p>
  <p>HaynesBoone will be joining us on the evening of September 30 at 5:00pm to discuss summer clerkships and what it means to be successful as a summer associate. </p>
  <p>To participate in the event, please join the TJOGEL Society by going to the Society's website: <a href="https://sites.google.com/utexas.edu/tjogelsociety/events?authuser=0">https://sites.google.com/utexas.edu/tjogelsociety/events?authuser=0</a>.</p>\n\nIf you need an accommodation to participate in this event, please contact the event sponsor or the Texas Law Special Events Office at specialevents@law.utexas.edu no later than seven business days prior to the event.
X-ALT-DESC;FMTTYPE=text/html:<p>On Tuesdays and Thursdays in the Fall semester, the Texas Journal of Oil, Gas, and Energy Law hosts a law firm for a roundtable with interested TJOGEL Society members. At the roundtables, partners and associates visiting from the law firms will present on a wide variety of energy law topics for the first part of the event. Then, TJOGEL Society members will have the opportunity to ask questions and network with the visitors from the law firms.</p>
  <p>HaynesBoone will be joining us on the evening of September 30 at 5:00pm to discuss summer clerkships and what it means to be successful as a summer associate. </p>
  <p>To participate in the event, please join the TJOGEL Society by going to the Society's website: <a href="https://sites.google.com/utexas.edu/tjogelsociety/events?authuser=0">https://sites.google.com/utexas.edu/tjogelsociety/events?authuser=0</a>.</p><p>If you need an accommodation to participate in this event, please contact the event
                                          event sponsor or the Texas Law Special Events Office at <a href="mailto:specialevents@law.utexas.edu">specialevents@law.utexas.edu</a> no later than seven business days prior to the event.</p>
CATEGORIES:Panel Discussion / Speaker Series

URL:http://law.utexas.edu/calendar/2021/09/30/62585/
CLASS:PUBLIC
STATUS:CONFIRMED

END:VEVENT
END:VCALENDAR