BEGIN:VCALENDAR
VERSION:2.0
PRODID:-//UNIVERSITY OF TEXAS SCHOOL OF LAW//NONSGML Events Calendar v1.0//EN
X-WR-TIMEZONE:America/Chicago
BEGIN:VTIMEZONE
TZID:US/Central
X-LIC-LOCATION:America/Chicago
BEGIN:DAYLIGHT
TZOFFSETFROM:-0600
TZOFFSETTO:-0500
TZNAME:CDT
DTSTART:19700308T020000
RRULE:FREQ=YEARLY;BYMONTH=3;BYDAY=2SU
END:DAYLIGHT
BEGIN:STANDARD
TZOFFSETFROM:-0500
TZOFFSETTO:-0600
TZNAME:CST
DTSTART:19701101T020000
RRULE:FREQ=YEARLY;BYMONTH=11;BYDAY=1SU
END:STANDARD
END:VTIMEZONE
BEGIN:VEVENT
DTSTART;TZID=US/Central:20210930T180000
DTEND;VALUE=DATE-TIME;TZID=US/Central:20210930T190000

DTSTAMP:20260419T165000Z
CREATED:20210916T174300Z
LAST-MODIFIED:20210921T175400Z
UID:20210930T180000-62925@law.utexas.edu
SUMMARY:Public Defense Group Internship Workshop
DESCRIPTION:<p>Join PDG for an internship workshop that will cover how to tailor your resume and cover letter and prepare for interviews at public defense offices. This workshop will prepare 1Ls and 2Ls for the interview process at public defense offices with particular insights from other students' previous interview experiences.</p>
  <p> <a href="https://utexas.zoom.us/j/99025122564">https://utexas.zoom.us/j/99025122564</a></p>\n\nIf you need an accommodation to participate in this event, please contact the event sponsor or the Texas Law Special Events Office at specialevents@law.utexas.edu no later than seven business days prior to the event.
X-ALT-DESC;FMTTYPE=text/html:<p>Join PDG for an internship workshop that will cover how to tailor your resume and cover letter and prepare for interviews at public defense offices. This workshop will prepare 1Ls and 2Ls for the interview process at public defense offices with particular insights from other students' previous interview experiences.</p>
  <p> <a href="https://utexas.zoom.us/j/99025122564">https://utexas.zoom.us/j/99025122564</a></p><p>If you need an accommodation to participate in this event, please contact the event
                                          event sponsor or the Texas Law Special Events Office at <a href="mailto:specialevents@law.utexas.edu">specialevents@law.utexas.edu</a> no later than seven business days prior to the event.</p>
CATEGORIES:Workshop / Training Program

URL:http://law.utexas.edu/calendar/2021/09/30/62925/
CLASS:PUBLIC
STATUS:CONFIRMED

END:VEVENT
END:VCALENDAR