BEGIN:VCALENDAR
VERSION:2.0
PRODID:-//UNIVERSITY OF TEXAS SCHOOL OF LAW//NONSGML Events Calendar v1.0//EN
X-WR-TIMEZONE:America/Chicago
BEGIN:VTIMEZONE
TZID:US/Central
X-LIC-LOCATION:America/Chicago
BEGIN:DAYLIGHT
TZOFFSETFROM:-0600
TZOFFSETTO:-0500
TZNAME:CDT
DTSTART:19700308T020000
RRULE:FREQ=YEARLY;BYMONTH=3;BYDAY=2SU
END:DAYLIGHT
BEGIN:STANDARD
TZOFFSETFROM:-0500
TZOFFSETTO:-0600
TZNAME:CST
DTSTART:19701101T020000
RRULE:FREQ=YEARLY;BYMONTH=11;BYDAY=1SU
END:STANDARD
END:VTIMEZONE
BEGIN:VEVENT
DTSTART;TZID=US/Central:20211006T180000
DTEND;VALUE=DATE-TIME;TZID=US/Central:20211006T193000

DTSTAMP:20260419T193400Z
CREATED:20210916T043300Z
LAST-MODIFIED:20210916T043300Z
UID:20211006T180000-62885@law.utexas.edu
SUMMARY:Town-Hall with Lee Merritt
DESCRIPTION:<p>We are hosting a speaking engagement with Lee Merritt, civil rights lawyer running for Texas AG, on the evening of Wednesday, October 6.</p>
  <p>The plan is for the event to be held at the law school, with a hybrid set-up so people can attend via Zoom, as well. Mimi Marziani of the Texas Civil Rights Project has agreed to moderate, so we imagine the first half hour as a conversation between Lee and Mimi and the second half hour as Q&amp;A with students. We plan to circulate the event among various UT graduate school and undergrad groups who might be interested in joining. </p>\n\nIf you need an accommodation to participate in this event, please contact the event sponsor or the Texas Law Special Events Office at specialevents@law.utexas.edu no later than seven business days prior to the event.
X-ALT-DESC;FMTTYPE=text/html:<p>We are hosting a speaking engagement with Lee Merritt, civil rights lawyer running for Texas AG, on the evening of Wednesday, October 6.</p>
  <p>The plan is for the event to be held at the law school, with a hybrid set-up so people can attend via Zoom, as well. Mimi Marziani of the Texas Civil Rights Project has agreed to moderate, so we imagine the first half hour as a conversation between Lee and Mimi and the second half hour as Q&amp;A with students. We plan to circulate the event among various UT graduate school and undergrad groups who might be interested in joining. </p><p>If you need an accommodation to participate in this event, please contact the event
                                          event sponsor or the Texas Law Special Events Office at <a href="mailto:specialevents@law.utexas.edu">specialevents@law.utexas.edu</a> no later than seven business days prior to the event.</p>
CATEGORIES:Panel Discussion / Speaker Series
LOCATION:TNH 2.140 - Wright Classroom
URL:http://law.utexas.edu/calendar/2021/10/06/62885/
CLASS:PUBLIC
STATUS:CONFIRMED
COMMENT:Reach out to Annie Clark - annefclark@utexas.edu
END:VEVENT
END:VCALENDAR