BEGIN:VCALENDAR
VERSION:2.0
PRODID:-//UNIVERSITY OF TEXAS SCHOOL OF LAW//NONSGML Events Calendar v1.0//EN
X-WR-TIMEZONE:America/Chicago
BEGIN:VTIMEZONE
TZID:US/Central
X-LIC-LOCATION:America/Chicago
BEGIN:DAYLIGHT
TZOFFSETFROM:-0600
TZOFFSETTO:-0500
TZNAME:CDT
DTSTART:19700308T020000
RRULE:FREQ=YEARLY;BYMONTH=3;BYDAY=2SU
END:DAYLIGHT
BEGIN:STANDARD
TZOFFSETFROM:-0500
TZOFFSETTO:-0600
TZNAME:CST
DTSTART:19701101T020000
RRULE:FREQ=YEARLY;BYMONTH=11;BYDAY=1SU
END:STANDARD
END:VTIMEZONE
BEGIN:VEVENT
DTSTART;TZID=US/Central:20211021T183000
DTEND;VALUE=DATE-TIME;TZID=US/Central:20211021T210000

DTSTAMP:20260419T151800Z
CREATED:20211008T213100Z
LAST-MODIFIED:20211008T213100Z
UID:20211021T183000-63965@law.utexas.edu
SUMMARY:Texas Law Fellowships Fall Auction
DESCRIPTION:<p>Join us at Hotel Vegas for TLF's annual Fall Auction! Bring your friends and bid on experiences with your favorite professor. All money raised will help to fund summer fellowships for our Texas Law students who chose to take unpaid public service internships.</p>\n\nIf you need an accommodation to participate in this event, please contact the event sponsor or the Texas Law Special Events Office at specialevents@law.utexas.edu no later than seven business days prior to the event.
X-ALT-DESC;FMTTYPE=text/html:<p>Join us at Hotel Vegas for TLF's annual Fall Auction! Bring your friends and bid on experiences with your favorite professor. All money raised will help to fund summer fellowships for our Texas Law students who chose to take unpaid public service internships.</p><p>If you need an accommodation to participate in this event, please contact the event
                                          event sponsor or the Texas Law Special Events Office at <a href="mailto:specialevents@law.utexas.edu">specialevents@law.utexas.edu</a> no later than seven business days prior to the event.</p>
CATEGORIES:Other
LOCATION:Hotel Vegas
URL:http://law.utexas.edu/calendar/2021/10/21/63965/
CLASS:PUBLIC
STATUS:CONFIRMED

END:VEVENT
END:VCALENDAR