BEGIN:VCALENDAR
VERSION:2.0
PRODID:-//UNIVERSITY OF TEXAS SCHOOL OF LAW//NONSGML Events Calendar v1.0//EN
X-WR-TIMEZONE:America/Chicago
BEGIN:VTIMEZONE
TZID:US/Central
X-LIC-LOCATION:America/Chicago
BEGIN:DAYLIGHT
TZOFFSETFROM:-0600
TZOFFSETTO:-0500
TZNAME:CDT
DTSTART:19700308T020000
RRULE:FREQ=YEARLY;BYMONTH=3;BYDAY=2SU
END:DAYLIGHT
BEGIN:STANDARD
TZOFFSETFROM:-0500
TZOFFSETTO:-0600
TZNAME:CST
DTSTART:19701101T020000
RRULE:FREQ=YEARLY;BYMONTH=11;BYDAY=1SU
END:STANDARD
END:VTIMEZONE
BEGIN:VEVENT
DTSTART;TZID=US/Central:20211109T114500
DTEND;VALUE=DATE-TIME;TZID=US/Central:20211109T124500

DTSTAMP:20260419T123100Z
CREATED:20211019T224800Z
LAST-MODIFIED:20211019T224800Z
UID:20211109T114500-64425@law.utexas.edu
SUMMARY:So You Want to Be a Tax Lawyer?
DESCRIPTION:<p>Please RSVP by Monday, November 8, on <a href="https://law-utexas-csm.symplicity.com/students/index.php?s=event&amp;ss=ws&amp;_ksl=1&amp;mode=list">Symplicity</a>. Zoom link will be sent before the event.</p>
  <p>The State Bar of Texas Section of Taxation presents a discussion about various career opportunities available to attorneys in the area of tax law. </p>
  <p>Panelist include:</p>
  <p>Abbey Garber, Partner Holland and Knight, Dallas, State Bar of Texas Tax Section Council, and a former Area Counsel, IRS Office of Chief Counsel.</p>
  <p>Mark Melton, Partner Holland and Knight, Dallas.
  Christi Mondrik, Mondrik and Associates – CPA and Past President of the State Bar of Texas Tax Section.</p>
  <p>Brooke Stan, Senior Counsel, IRS Office of Chief Counsel, Austin.</p>\n\nIf you need an accommodation to participate in this event, please contact the event sponsor or the Texas Law Special Events Office at specialevents@law.utexas.edu no later than seven business days prior to the event.
X-ALT-DESC;FMTTYPE=text/html:<p>Please RSVP by Monday, November 8, on <a href="https://law-utexas-csm.symplicity.com/students/index.php?s=event&amp;ss=ws&amp;_ksl=1&amp;mode=list">Symplicity</a>. Zoom link will be sent before the event.</p>
  <p>The State Bar of Texas Section of Taxation presents a discussion about various career opportunities available to attorneys in the area of tax law. </p>
  <p>Panelist include:</p>
  <p>Abbey Garber, Partner Holland and Knight, Dallas, State Bar of Texas Tax Section Council, and a former Area Counsel, IRS Office of Chief Counsel.</p>
  <p>Mark Melton, Partner Holland and Knight, Dallas.
  Christi Mondrik, Mondrik and Associates – CPA and Past President of the State Bar of Texas Tax Section.</p>
  <p>Brooke Stan, Senior Counsel, IRS Office of Chief Counsel, Austin.</p><p>If you need an accommodation to participate in this event, please contact the event
                                          event sponsor or the Texas Law Special Events Office at <a href="mailto:specialevents@law.utexas.edu">specialevents@law.utexas.edu</a> no later than seven business days prior to the event.</p>
CATEGORIES:Panel Discussion / Speaker Series
LOCATION:Virtual
URL:http://law.utexas.edu/calendar/2021/11/09/64425/
CLASS:PUBLIC
STATUS:CONFIRMED
COMMENT:Please contact Denyse Demel, Career Counselor, at  <a href="mailto:ddemel@law.utexas.edu">ddemel@law.utexas.edu</a>.
END:VEVENT
END:VCALENDAR